BEGIN:VCALENDAR
VERSION:2.0
PRODID:-//wp-events-plugin.com//5.973//EN
TZID:Europe/Paris
X-WR-TIMEZONE:Europe/Paris
BEGIN:VEVENT
UID:248@repaircafemarseille.fr
DTSTART;TZID=Europe/Paris:20230405T180000
DTEND;TZID=Europe/Paris:20230405T200000
DTSTAMP:20230404T114420Z
URL:https://repaircafemarseille.fr/ateliers/atelier-informatique-avec-la-m
 aif-au-qg-des-eco-acteurs-13001-mercredi-5-avril-18h-20h/
SUMMARY:Atelier INFORMATIQUE avec la MAIF au QG des Eco-acteurs (13001)\, m
 ercredi 5 avril 18h-20h
DESCRIPTION:\n\nLa MAIF Marseille\, partenaire du Repair Café Marseille\, 
 nous invite au QG des Éco-acteurs pour un atelier de réparation INFORMAT
 IQUE\, le mercredi 5 avril 2023 de 18h à 20h.\n\nLes participants doivent
  arriver entre 18h et 18h30 maximum.\n\nSi votre ordinateur vous parle\, s
 i la carte mère réclame son fil(s) ou que les câbles s'emmêlent\, vene
 z réparer avec notre équipe de choc votre matériel informatique.\n\nSi 
 vous avez l'âme d'un réparateur\, d'un sauveteur de PC et autre héros d
 es temps modernes\, venez nous rencontrer !\n\nAccès à l'atelier :\n\n 	
 QG des Éco-acteurs\, 26/28 Allée Léon Gambetta\, 13001 Marseille\n 	Tra
 nsports :\n\n 	Métro M1 – Arrêt Réformés – Canebière\n 	Bus 52 
 – Arrêt Gambetta Athènes\n 	Tramway T2 – Arrêt Canebière Garibaldi
 \n\n\n\nIMPORTANT :\n\n\n 	inscription en ligne obligatoire (pas d'inscrip
 tion par email)\n\n 	description de votre objet et de la panne obligatoire
 \, 1 appareil par personne\n 	Nous ne réparons PAS les imprimantes\, les 
 télévisions\, les écrans d'ordinateur\, la téléphone mobile et les ap
 pareils photos\n 	pensez à amener votre chargeur / disque  dur / clé US
 B\n
CATEGORIES:Informatique,Jeux et jouets
LOCATION:QG des Éco-acteurs / Communauté des Engagés\, 26/28 Allée Léo
 n Gambetta\, Marseille\, 13001\, France
GEO:43.298782;5.382443
X-APPLE-STRUCTURED-LOCATION;VALUE=URI;X-ADDRESS=26/28 Allée Léon Gambetta
 \, Marseille\, 13001\, France;X-APPLE-RADIUS=100;X-TITLE=QG des Éco-acteu
 rs / Communauté des Engagés:geo:43.298782,5.382443
END:VEVENT
BEGIN:VEVENT
UID:249@repaircafemarseille.fr
DTSTART;TZID=Europe/Paris:20230405T180000
DTEND;TZID=Europe/Paris:20230405T200000
DTSTAMP:20230403T154734Z
URL:https://repaircafemarseille.fr/ateliers/atelier-petit-electromenager-a
 vec-la-maif-au-qg-des-eco-acteurs-13001-mercredi-5-avril-18h-20h/
SUMMARY:Atelier PETIT ÉLECTROMÉNAGER avec la MAIF au QG des Eco-acteurs (
 13001)\, mercredi 5 avril 18h-20h - COMPLET
DESCRIPTION:\n\nLa MAIF Marseille\, partenaire du Repair Café Marseille\, 
 nous invite au QG des Éco-acteurs pour un atelier de réparation PETIT É
 LECTROMÉNAGER\, le mercredi 5 avril 2023 de 18h à 20h.\n\nLes participan
 ts doivent arriver entre 18h et 18h30 maximum.\n\nSi votre cafetière dér
 aille\, que votre grille pain ne grille plus\, que votre aspirateur souffl
 e ou que votre robot ménager a lâché\, venez les réparer avec notre é
 quipe de choc !\n\nSi vous avez l’âme d’un réparateur\, d’un sauve
 teur de cafetière et autre héros des temps modernes\, venez nous rencont
 rer !\n\nAccès à l'atelier :\n\n 	QG des Éco-acteurs\, 26/28 Allée Lé
 on Gambetta\, 13001 Marseille\n 	Transports :\n\n 	Métro M1 – Arrêt R
 éformés – Canebière\n 	Bus 52 – Arrêt Gambetta Athènes\n 	Tramway
  T2 – Arrêt Canebière Garibaldi\n\n\n\nIMPORTANT :\n\n\n 	inscription 
 en ligne obligatoire\n 	description de votre objet et de la panne obligato
 ire\, 1 appareil par personne\n 	2 € de participation MINIMUM obligatoir
 e\n 	Nous réparons bénévolement le Petit Electroménager : bouilloire\,
  cafetière\, aspirateur\, fer à repasser\, robot de cuisine\, ventilateu
 r … mais pas les micro-ondes\, les télévisions ou le Gros Electroména
 ger (lave-linge\, frigo\, lave-vaisselle…)\n
CATEGORIES:Jeux et jouets,Petit électroménager
LOCATION:QG des Éco-acteurs / Communauté des Engagés\, 26/28 Allée Léo
 n Gambetta\, Marseille\, 13001\, France
GEO:43.298782;5.382443
X-APPLE-STRUCTURED-LOCATION;VALUE=URI;X-ADDRESS=26/28 Allée Léon Gambetta
 \, Marseille\, 13001\, France;X-APPLE-RADIUS=100;X-TITLE=QG des Éco-acteu
 rs / Communauté des Engagés:geo:43.298782,5.382443
END:VEVENT
BEGIN:VEVENT
UID:265@repaircafemarseille.fr
DTSTART;TZID=Europe/Paris:20231115T180000
DTEND;TZID=Europe/Paris:20231115T200000
DTSTAMP:20231111T192005Z
URL:https://repaircafemarseille.fr/ateliers/atelier-petit-electromenager-a
 vec-la-maif-au-qg-des-eco-acteurs-13001-mercredi-15-novembre-18h-20h/
SUMMARY:Atelier PETIT ÉLECTROMÉNAGER avec la MAIF au QG des Eco-acteurs (
 13001)\, mercredi 15 novembre 18h-20h - COMPLET
DESCRIPTION:\n\nLa MAIF Marseille\, partenaire du Repair Café Marseille\, 
 nous invite au QG des Éco-acteurs pour un atelier de réparation PETIT É
 LECTROMÉNAGER\, le mercredi 15 novembre 2023 de 18h à 20h.\n\nLes partic
 ipants doivent arriver entre 18h et 18h30 maximum.\n\nSi votre cafetière 
 déraille\, que votre grille pain ne grille plus\, que votre aspirateur so
 uffle ou que votre robot ménager a lâché\, venez les réparer avec notr
 e équipe de choc !\n\nSi vous avez l’âme d’un réparateur\, d’un s
 auveteur de cafetière et autre héros des temps modernes\, venez nous ren
 contrer !\n\nAccès à l'atelier :\n\n 	QG des Éco-acteurs\, 26/28 Allée
  Léon Gambetta\, 13001 Marseille\n 	Transports :\n\n 	Métro M1 – Arrê
 t Réformés – Canebière\n 	Bus 52 – Arrêt Gambetta Athènes\n 	Tram
 way T2 – Arrêt Canebière Garibaldi\n\n\n\nIMPORTANT :\n\n\n 	inscripti
 on en ligne obligatoire\n 	description de votre objet et de la panne oblig
 atoire\, 1 appareil par personne\n 	2 € de participation MINIMUM obligat
 oire\n 	Nous réparons bénévolement le Petit Electroménager : bouilloir
 e\, cafetière\, aspirateur\, fer à repasser\, robot de cuisine\, ventila
 teur … mais pas les micro-ondes\, les télévisions ou le Gros Electrom
 énager (lave-linge\, frigo\, lave-vaisselle…)\n
CATEGORIES:Jeux et jouets,Petit électroménager
LOCATION:QG des Éco-acteurs / Communauté des Engagés\, 26/28 Allée Léo
 n Gambetta\, Marseille\, 13001\, France
GEO:43.298782;5.382443
X-APPLE-STRUCTURED-LOCATION;VALUE=URI;X-ADDRESS=26/28 Allée Léon Gambetta
 \, Marseille\, 13001\, France;X-APPLE-RADIUS=100;X-TITLE=QG des Éco-acteu
 rs / Communauté des Engagés:geo:43.298782,5.382443
END:VEVENT
BEGIN:VEVENT
UID:266@repaircafemarseille.fr
DTSTART;TZID=Europe/Paris:20231115T180000
DTEND;TZID=Europe/Paris:20231115T200000
DTSTAMP:20231112T131325Z
URL:https://repaircafemarseille.fr/ateliers/atelier-informatique-avec-la-m
 aif-au-qg-des-eco-acteurs-13001-mercredi-15-novembre-18h-20h/
SUMMARY:Atelier INFORMATIQUE avec la MAIF au QG des Eco-acteurs (13001)\, m
 ercredi 15 novembre 18h-20h - COMPLET
DESCRIPTION:\n\nLa MAIF Marseille\, partenaire du Repair Café Marseille\, 
 nous invite au QG des Éco-acteurs pour un atelier de réparation INFORMAT
 IQUE\, le mercredi 15 novembre 2023 de 18h à 20h.\n\nLes participants doi
 vent arriver entre 18h et 18h30 maximum.\n\nSi votre ordinateur vous parle
 \, si la carte mère réclame son fil(s) ou que les câbles s'emmêlent\, 
 venez réparer avec notre équipe de choc votre matériel informatique.\n\
 nSi vous avez l'âme d'un réparateur\, d'un sauveteur de PC et autre hér
 os des temps modernes\, venez nous rencontrer !\n\nAccès à l'atelier :\n
 \n 	QG des Éco-acteurs\, 26/28 Allée Léon Gambetta\, 13001 Marseille\n 
 	Transports :\n\n 	Métro M1 – Arrêt Réformés – Canebière\n 	Bus 5
 2 – Arrêt Gambetta Athènes\n 	Tramway T2 – Arrêt Canebière Garibal
 di\n\n\n\nIMPORTANT :\n\n\n 	inscription en ligne obligatoire (pas d'inscr
 iption par email)\n\n 	description de votre objet et de la panne obligatoi
 re\, 1 appareil par personne\n 	Nous ne réparons PAS les imprimantes\, le
 s télévisions\, les écrans d'ordinateur\, la téléphonie mobile et les
  appareils photos\n 	pensez à amener votre chargeur / disque  dur / clé
  USB\n
CATEGORIES:Informatique,Jeux et jouets
LOCATION:QG des Éco-acteurs / Communauté des Engagés\, 26/28 Allée Léo
 n Gambetta\, Marseille\, 13001\, France
GEO:43.298782;5.382443
X-APPLE-STRUCTURED-LOCATION;VALUE=URI;X-ADDRESS=26/28 Allée Léon Gambetta
 \, Marseille\, 13001\, France;X-APPLE-RADIUS=100;X-TITLE=QG des Éco-acteu
 rs / Communauté des Engagés:geo:43.298782,5.382443
END:VEVENT
BEGIN:VEVENT
UID:271@repaircafemarseille.fr
DTSTART;TZID=Europe/Paris:20231206T180000
DTEND;TZID=Europe/Paris:20231206T200000
DTSTAMP:20231204T100153Z
URL:https://repaircafemarseille.fr/ateliers/atelier-informatique-avec-la-m
 aif-au-qg-des-eco-acteurs-13001-mercredi-6-decembre-18h-20h/
SUMMARY:Atelier INFORMATIQUE avec la MAIF au QG des Eco-acteurs (13001)\, m
 ercredi 6 décembre 18h-20h - COMPLET
DESCRIPTION:\n\nLa MAIF Marseille\, partenaire du Repair Café Marseille\, 
 nous invite au QG des Éco-acteurs pour un atelier de réparation INFORMAT
 IQUE\, le mercredi 6 décembre 2023 de 18h à 20h.\n\nLes participants doi
 vent arriver entre 18h et 18h30 maximum.\n\nSi votre ordinateur vous parle
 \, si la carte mère réclame son fil(s) ou que les câbles s'emmêlent\, 
 venez réparer avec notre équipe de choc votre matériel informatique.\n\
 nSi vous avez l'âme d'un réparateur\, d'un sauveteur de PC et autre hér
 os des temps modernes\, venez nous rencontrer !\n\nAccès à l'atelier :\n
 \n 	QG des Éco-acteurs\, 26/28 Allée Léon Gambetta\, 13001 Marseille\n 
 	Transports :\n\n 	Métro M1 – Arrêt Réformés – Canebière\n 	Bus 5
 2 – Arrêt Gambetta Athènes\n 	Tramway T2 – Arrêt Canebière Garibal
 di\n\n\n\nIMPORTANT :\n\n\n 	inscription en ligne obligatoire (pas d'inscr
 iption par email)\n\n 	description de votre objet et de la panne obligatoi
 re\, 1 appareil par personne\n 	Nous ne réparons PAS les imprimantes\, le
 s télévisions\, les écrans d'ordinateur\, la téléphonie mobile et les
  appareils photos\n 	pensez à amener votre chargeur / disque  dur / clé
  USB\n
CATEGORIES:Informatique,Jeux et jouets
LOCATION:QG des Éco-acteurs / Communauté des Engagés\, 26/28 Allée Léo
 n Gambetta\, Marseille\, 13001\, France
GEO:43.298782;5.382443
X-APPLE-STRUCTURED-LOCATION;VALUE=URI;X-ADDRESS=26/28 Allée Léon Gambetta
 \, Marseille\, 13001\, France;X-APPLE-RADIUS=100;X-TITLE=QG des Éco-acteu
 rs / Communauté des Engagés:geo:43.298782,5.382443
END:VEVENT
BEGIN:VEVENT
UID:272@repaircafemarseille.fr
DTSTART;TZID=Europe/Paris:20231206T180000
DTEND;TZID=Europe/Paris:20231206T200000
DTSTAMP:20231203T150932Z
URL:https://repaircafemarseille.fr/ateliers/atelier-petit-electromenager-a
 vec-la-maif-au-qg-des-eco-acteurs-13001-mercredi-6-decembre-18h-20h/
SUMMARY:Atelier PETIT ÉLECTROMÉNAGER avec la MAIF au QG des Eco-acteurs (
 13001)\, mercredi 6 décembre 18h-20h - COMPLET
DESCRIPTION:\n\nLa MAIF Marseille\, partenaire du Repair Café Marseille\, 
 nous invite au QG des Éco-acteurs pour un atelier de réparation PETIT É
 LECTROMÉNAGER\, le mercredi 6 décembre 2023 de 18h à 20h.\n\nLes partic
 ipants doivent arriver entre 18h et 18h30 maximum.\n\nSi votre cafetière 
 déraille\, que votre grille pain ne grille plus\, que votre aspirateur so
 uffle ou que votre robot ménager a lâché\, venez les réparer avec notr
 e équipe de choc !\n\nSi vous avez l’âme d’un réparateur\, d’un s
 auveteur de cafetière et autre héros des temps modernes\, venez nous ren
 contrer !\n\nAccès à l'atelier :\n\n 	QG des Éco-acteurs\, 26/28 Allée
  Léon Gambetta\, 13001 Marseille\n 	Transports :\n\n 	Métro M1 – Arrê
 t Réformés – Canebière\n 	Bus 52 – Arrêt Gambetta Athènes\n 	Tram
 way T2 – Arrêt Canebière Garibaldi\n\n\n\nIMPORTANT :\n\n\n 	inscripti
 on en ligne obligatoire\n 	description de votre objet et de la panne oblig
 atoire\, 1 appareil par personne\n 	2 € de participation MINIMUM obligat
 oire\n 	Nous réparons bénévolement le Petit Electroménager : bouilloir
 e\, cafetière\, aspirateur\, fer à repasser\, robot de cuisine\, ventila
 teur … mais pas les micro-ondes\, les télévisions ou le Gros Electrom
 énager (lave-linge\, frigo\, lave-vaisselle…)\n
CATEGORIES:Jeux et jouets,Petit électroménager
LOCATION:QG des Éco-acteurs / Communauté des Engagés\, 26/28 Allée Léo
 n Gambetta\, Marseille\, 13001\, France
GEO:43.298782;5.382443
X-APPLE-STRUCTURED-LOCATION;VALUE=URI;X-ADDRESS=26/28 Allée Léon Gambetta
 \, Marseille\, 13001\, France;X-APPLE-RADIUS=100;X-TITLE=QG des Éco-acteu
 rs / Communauté des Engagés:geo:43.298782,5.382443
END:VEVENT
BEGIN:VEVENT
UID:282@repaircafemarseille.fr
DTSTART;TZID=Europe/Paris:20240313T180000
DTEND;TZID=Europe/Paris:20240313T200000
DTSTAMP:20240311T115521Z
URL:https://repaircafemarseille.fr/ateliers/atelier-informatique-avec-la-m
 aif-au-qg-des-eco-acteurs-13001-mercredi-13-mars-18h-20h/
SUMMARY:Atelier INFORMATIQUE avec la MAIF au QG des Eco-acteurs (13001)\, m
 ercredi 13 mars 18h-20h (COMPLET)
DESCRIPTION:\n\nLa MAIF Marseille\, partenaire du Repair Café Marseille\, 
 nous invite au QG des Éco-acteurs pour un atelier de réparation INFORMAT
 IQUE\, le mercredi 13 mars 2024 de 18h à 20h.\n\nLes participants doivent
  arriver entre 18h et 18h30 maximum.\n\nSi votre ordinateur vous parle\, s
 i la carte mère réclame son fil(s) ou que les câbles s'emmêlent\, vene
 z réparer avec notre équipe de choc votre matériel informatique.\n\nSi 
 vous avez l'âme d'un réparateur\, d'un sauveteur de PC et autre héros d
 es temps modernes\, venez nous rencontrer !\n\nAccès à l'atelier :\n\n 	
 QG des Éco-acteurs\, 26/28 Allée Léon Gambetta\, 13001 Marseille\n 	Tra
 nsports :\n\n 	Métro M1 – Arrêt Réformés – Canebière\n 	Bus 52 
 – Arrêt Gambetta Athènes\n 	Tramway T2 – Arrêt Canebière Garibaldi
 \n\n\n\nIMPORTANT :\n\n\n 	inscription en ligne obligatoire (pas d'inscrip
 tion par email)\n\n 	description de votre objet et de la panne obligatoire
 \, 1 appareil par personne\n 	Nous ne réparons PAS les imprimantes\, les 
 télévisions\, les écrans d'ordinateur\, la téléphonie mobile et les a
 ppareils photos\n 	pensez à amener votre chargeur / disque  dur / clé U
 SB\n
CATEGORIES:Informatique
LOCATION:QG des Éco-acteurs / Communauté des Engagés\, 26/28 Allée Léo
 n Gambetta\, Marseille\, 13001\, France
GEO:43.298782;5.382443
X-APPLE-STRUCTURED-LOCATION;VALUE=URI;X-ADDRESS=26/28 Allée Léon Gambetta
 \, Marseille\, 13001\, France;X-APPLE-RADIUS=100;X-TITLE=QG des Éco-acteu
 rs / Communauté des Engagés:geo:43.298782,5.382443
END:VEVENT
BEGIN:VEVENT
UID:283@repaircafemarseille.fr
DTSTART;TZID=Europe/Paris:20240313T180000
DTEND;TZID=Europe/Paris:20240313T200000
DTSTAMP:20240311T064733Z
URL:https://repaircafemarseille.fr/ateliers/atelier-petit-electromenager-a
 vec-la-maif-au-qg-des-eco-acteurs-13001-mercredi-13-mars-18h-20h/
SUMMARY:Atelier PETIT ÉLECTROMÉNAGER avec la MAIF au QG des Eco-acteurs (
 13001)\, mercredi 13 mars 18h-20h ( COMPLET )
DESCRIPTION:\n\nLa MAIF Marseille\, partenaire du Repair Café Marseille\, 
 nous invite au QG des Éco-acteurs pour un atelier de réparation PETIT É
 LECTROMÉNAGER\, le mercredi 13 mars 2024 de 18h à 20h.\n\nLes participan
 ts doivent arriver entre 18h et 18h30 maximum.\n\nSi votre cafetière dér
 aille\, que votre grille pain ne grille plus\, que votre aspirateur souffl
 e ou que votre robot ménager a lâché\, venez les réparer avec notre é
 quipe de choc !\n\nSi vous avez l’âme d’un réparateur\, d’un sauve
 teur de cafetière et autre héros des temps modernes\, venez nous rencont
 rer !\n\nAccès à l'atelier :\n\n 	QG des Éco-acteurs\, 26/28 Allée Lé
 on Gambetta\, 13001 Marseille\n 	Transports :\n\n 	Métro M1 – Arrêt R
 éformés – Canebière\n 	Bus 52 – Arrêt Gambetta Athènes\n 	Tramway
  T2 – Arrêt Canebière Garibaldi\n\n\n\nIMPORTANT :\n\n\n 	inscription 
 en ligne obligatoire\n 	description de votre objet et de la panne obligato
 ire\, 1 appareil par personne\n 	Nous réparons bénévolement le Petit El
 ectroménager : bouilloire\, cafetière\, aspirateur\, fer à repasser\, r
 obot de cuisine\, ventilateur … mais pas les micro-ondes\, les télévis
 ions ou le Gros Electroménager (lave-linge\, frigo\, lave-vaisselle…)\n
CATEGORIES:Jeux et jouets,Petit électroménager
LOCATION:QG des Éco-acteurs / Communauté des Engagés\, 26/28 Allée Léo
 n Gambetta\, Marseille\, 13001\, France
GEO:43.298782;5.382443
X-APPLE-STRUCTURED-LOCATION;VALUE=URI;X-ADDRESS=26/28 Allée Léon Gambetta
 \, Marseille\, 13001\, France;X-APPLE-RADIUS=100;X-TITLE=QG des Éco-acteu
 rs / Communauté des Engagés:geo:43.298782,5.382443
END:VEVENT
BEGIN:VEVENT
UID:287@repaircafemarseille.fr
DTSTART;TZID=Europe/Paris:20240417T180000
DTEND;TZID=Europe/Paris:20240417T200000
DTSTAMP:20240412T103154Z
URL:https://repaircafemarseille.fr/ateliers/atelier-informatique-avec-la-m
 aif-au-qg-des-eco-acteurs-13001-mercredi-17-avril-18h-20h/
SUMMARY:Atelier INFORMATIQUE avec la MAIF au QG des Eco-acteurs (13001)\, m
 ercredi 17 avril 18h-20h
DESCRIPTION:\n\nLa MAIF Marseille\, partenaire du Repair Café Marseille\, 
 nous invite au QG des Éco-acteurs pour un atelier de réparation INFORMAT
 IQUE\, le mercredi 17 avril 2024 de 18h à 20h.\n\nLes participants doiven
 t arriver entre 18h et 18h30 maximum.\n\nSi votre ordinateur vous parle\, 
 si la carte mère réclame son fil(s) ou que les câbles s'emmêlent\, ven
 ez réparer avec notre équipe de choc votre matériel informatique.\n\nSi
  vous avez l'âme d'un réparateur\, d'un sauveteur de PC et autre héros 
 des temps modernes\, venez nous rencontrer !\n\nAccès à l'atelier :\n\n 
 	QG des Éco-acteurs\, 26/28 Allée Léon Gambetta\, 13001 Marseille\n 	Tr
 ansports :\n\n 	Métro M1 – Arrêt Réformés – Canebière\n 	Bus 52 
 – Arrêt Gambetta Athènes\n 	Tramway T2 – Arrêt Canebière Garibaldi
 \n\n\n\nIMPORTANT :\n\n\n 	inscription en ligne obligatoire (pas d'inscrip
 tion par email)\n\n 	description de votre objet et de la panne obligatoire
 \, 1 appareil par personne\n 	Nous ne réparons PAS les imprimantes\, les 
 télévisions\, les écrans d'ordinateur\, la téléphonie mobile et les a
 ppareils photos\n 	pensez à amener votre chargeur / disque  dur / clé U
 SB\n
CATEGORIES:Informatique
LOCATION:QG des Éco-acteurs / Communauté des Engagés\, 26/28 Allée Léo
 n Gambetta\, Marseille\, 13001\, France
GEO:43.298782;5.382443
X-APPLE-STRUCTURED-LOCATION;VALUE=URI;X-ADDRESS=26/28 Allée Léon Gambetta
 \, Marseille\, 13001\, France;X-APPLE-RADIUS=100;X-TITLE=QG des Éco-acteu
 rs / Communauté des Engagés:geo:43.298782,5.382443
END:VEVENT
BEGIN:VEVENT
UID:288@repaircafemarseille.fr
DTSTART;TZID=Europe/Paris:20240417T180000
DTEND;TZID=Europe/Paris:20240417T200000
DTSTAMP:20240415T162320Z
URL:https://repaircafemarseille.fr/ateliers/atelier-petit-electromenager-a
 vec-la-maif-au-qg-des-eco-acteurs-13001-mercredi-17-avril-18h-20h/
SUMMARY:Atelier PETIT ÉLECTROMÉNAGER avec la MAIF au QG des Eco-acteurs (
 13001)\, mercredi 17 avril 18h-20h (Complet)
DESCRIPTION:\n\nLa MAIF Marseille\, partenaire du Repair Café Marseille\, 
 nous invite au QG des Éco-acteurs pour un atelier de réparation PETIT É
 LECTROMÉNAGER\, le mercredi 17 avril 2024 de 18h à 20h.\n\nLes participa
 nts doivent arriver entre 18h et 18h30 maximum.\n\nSi votre cafetière dé
 raille\, que votre grille pain ne grille plus\, que votre aspirateur souff
 le ou que votre robot ménager a lâché\, venez les réparer avec notre 
 équipe de choc !\n\nSi vous avez l’âme d’un réparateur\, d’un sau
 veteur de cafetière et autre héros des temps modernes\, venez nous renco
 ntrer !\n\nAccès à l'atelier :\n\n 	QG des Éco-acteurs\, 26/28 Allée L
 éon Gambetta\, 13001 Marseille\n 	Transports :\n\n 	Métro M1 – Arrêt 
 Réformés – Canebière\n 	Bus 52 – Arrêt Gambetta Athènes\n 	Tramwa
 y T2 – Arrêt Canebière Garibaldi\n\n\n\nIMPORTANT :\n\n\n 	inscription
  en ligne obligatoire\n 	description de votre objet et de la panne obligat
 oire\, 1 appareil par personne\n 	Nous réparons bénévolement le Petit E
 lectroménager : bouilloire\, cafetière\, aspirateur\, fer à repasser\, 
 robot de cuisine\, ventilateur … mais pas les micro-ondes\, les télévi
 sions ou le Gros Electroménager (lave-linge\, frigo\, lave-vaisselle…)\
 n
CATEGORIES:Jeux et jouets,Petit électroménager
LOCATION:QG des Éco-acteurs / Communauté des Engagés\, 26/28 Allée Léo
 n Gambetta\, Marseille\, 13001\, France
GEO:43.298782;5.382443
X-APPLE-STRUCTURED-LOCATION;VALUE=URI;X-ADDRESS=26/28 Allée Léon Gambetta
 \, Marseille\, 13001\, France;X-APPLE-RADIUS=100;X-TITLE=QG des Éco-acteu
 rs / Communauté des Engagés:geo:43.298782,5.382443
END:VEVENT
BEGIN:VEVENT
UID:300@repaircafemarseille.fr
DTSTART;TZID=Europe/Paris:20240911T180000
DTEND;TZID=Europe/Paris:20240911T200000
DTSTAMP:20240903T163804Z
URL:https://repaircafemarseille.fr/ateliers/atelier-informatique-avec-la-m
 aif-au-qg-des-eco-acteurs-13001-mercredi-11-septembre-18h-20h/
SUMMARY:Atelier INFORMATIQUE avec la MAIF au QG des Eco-acteurs (13001)\, m
 ercredi 11 septembre 18h-20h
DESCRIPTION:\n\nLa MAIF Marseille\, partenaire du Repair Café Marseille\, 
 nous invite au QG des Éco-acteurs pour un atelier de réparation INFORMAT
 IQUE\, le mercredi 11 septembre 2024 de 18h à 20h.\n\nLes participants do
 ivent arriver entre 18h et 18h30 maximum.\n\nSi votre ordinateur vous parl
 e\, si la carte mère réclame son fil(s) ou que les câbles s'emmêlent\,
  venez réparer avec notre équipe de choc votre matériel informatique.\n
 \nSi vous avez l'âme d'un réparateur\, d'un sauveteur de PC et autre hé
 ros des temps modernes\, venez nous rencontrer !\n\nAccès à l'atelier :\
 n\n 	QG des Éco-acteurs\, 26/28 Allée Léon Gambetta\, 13001 Marseille\n
  	Transports :\n\n 	Métro M1 – Arrêt Réformés – Canebière\n 	Bus 
 52 – Arrêt Gambetta Athènes\n 	Tramway T2 – Arrêt Canebière Gariba
 ldi\n\n\n\nIMPORTANT :\n\n\n 	inscription en ligne obligatoire (pas d'insc
 ription par email)\n\n 	description de votre objet et de la panne obligato
 ire\, 1 appareil par personne\n 	Nous ne réparons PAS les imprimantes\, l
 es télévisions\, les écrans d'ordinateur\, la téléphonie mobile et le
 s appareils photos\n 	pensez à amener votre chargeur / disque  dur / cl
 é USB\n
CATEGORIES:Informatique
LOCATION:QG des Éco-acteurs / Communauté des Engagés\, 26/28 Allée Léo
 n Gambetta\, Marseille\, 13001\, France
GEO:43.298782;5.382443
X-APPLE-STRUCTURED-LOCATION;VALUE=URI;X-ADDRESS=26/28 Allée Léon Gambetta
 \, Marseille\, 13001\, France;X-APPLE-RADIUS=100;X-TITLE=QG des Éco-acteu
 rs / Communauté des Engagés:geo:43.298782,5.382443
END:VEVENT
BEGIN:VEVENT
UID:301@repaircafemarseille.fr
DTSTART;TZID=Europe/Paris:20240911T180000
DTEND;TZID=Europe/Paris:20240911T200000
DTSTAMP:20240910T082934Z
URL:https://repaircafemarseille.fr/ateliers/atelier-petit-electromenager-a
 vec-la-maif-au-qg-des-eco-acteurs-13001-mercredi-11-septembre-18h-20h-comp
 let/
SUMMARY:Atelier PETIT ÉLECTROMÉNAGER avec la MAIF au QG des Eco-acteurs (
 13001)\, mercredi 11 septembre 18h-20h (COMPLET)
DESCRIPTION:\n 	\n\nLa MAIF Marseille\, partenaire du Repair Café Marseill
 e\, nous invite au QG des Éco-acteurs pour un atelier de réparation PETI
 T ÉLECTROMÉNAGER\, le mercredi 11 septembre 2024 de 18h à 20h.\n\nLes p
 articipants doivent arriver entre 18h et 18h30 maximum.\n\nSi votre cafeti
 ère déraille\, que votre grille pain ne grille plus\, que votre aspirate
 ur souffle ou que votre robot ménager a lâché\, venez les réparer avec
  notre équipe de choc !\n\nSi vous avez l’âme d’un réparateur\, d
 ’un sauveteur de cafetière et autre héros des temps modernes\, venez n
 ous rencontrer !\n\nAccès à l'atelier :\n\n 	QG des Éco-acteurs\, 26/28
  Allée Léon Gambetta\, 13001 Marseille\n 	Transports :\n\n 	Métro M1 
 – Arrêt Réformés – Canebière\n 	Bus 52 – Arrêt Gambetta Athène
 s\n 	Tramway T2 – Arrêt Canebière Garibaldi\n\n\n\nIMPORTANT :\n\n\n 	
 inscription en ligne obligatoire\n 	description de votre objet et de la pa
 nne obligatoire\, 1 appareil par personne\n 	Nous réparons bénévolement
  le Petit Electroménager : bouilloire\, cafetière\, aspirateur\, fer à 
 repasser\, robot de cuisine\, ventilateur … mais pas les micro-ondes\, l
 es télévisions ou le Gros Electroménager (lave-linge\, frigo\, lave-vai
 sselle…)\n
CATEGORIES:Jeux et jouets,Petit électroménager
LOCATION:QG des Éco-acteurs / Communauté des Engagés\, 26/28 Allée Léo
 n Gambetta\, Marseille\, 13001\, France
GEO:43.298782;5.382443
X-APPLE-STRUCTURED-LOCATION;VALUE=URI;X-ADDRESS=26/28 Allée Léon Gambetta
 \, Marseille\, 13001\, France;X-APPLE-RADIUS=100;X-TITLE=QG des Éco-acteu
 rs / Communauté des Engagés:geo:43.298782,5.382443
END:VEVENT
BEGIN:VEVENT
UID:309@repaircafemarseille.fr
DTSTART;TZID=Europe/Paris:20241120T180000
DTEND;TZID=Europe/Paris:20241120T200000
DTSTAMP:20241119T165634Z
URL:https://repaircafemarseille.fr/ateliers/atelier-informatique-avec-la-m
 aif-au-qg-des-eco-acteurs-13001-mercredi-20-novembre-18h-20h/
SUMMARY:Atelier INFORMATIQUE avec la MAIF au QG des Eco-acteurs (13001)\, m
 ercredi 20 novembre 18h-20h
DESCRIPTION:\n\nLa MAIF Marseille\, partenaire du Repair Café Marseille\, 
 nous invite au QG des Éco-acteurs pour un atelier de réparation INFORMAT
 IQUE\, le mercredi 20 novembre 2024 de 18h à 20h.\n\nLes participants do
 ivent arriver entre 18h et 18h30 maximum.\n\nSi votre ordinateur vous parl
 e\, si la carte mère réclame son fil(s) ou que les câbles s'emmêlent\,
  venez réparer avec notre équipe de choc votre matériel informatique.\n
 \nSi vous avez l'âme d'un réparateur\, d'un sauveteur de PC et autre hé
 ros des temps modernes\, venez nous rencontrer !\n\nAccès à l'atelier :\
 n\n 	QG des Éco-acteurs\, 26/28 Allée Léon Gambetta\, 13001 Marseille\n
  	Transports :\n\n 	Métro M1 – Arrêt Réformés – Canebière\n 	Bus 
 52 – Arrêt Gambetta Athènes\n 	Tramway T2 – Arrêt Canebière Gariba
 ldi\n\n\n\nIMPORTANT :\n\n\n 	inscription en ligne obligatoire (pas d'insc
 ription par email)\n\n 	description de votre objet et de la panne obligato
 ire\, 1 appareil par personne\n 	Nous ne réparons PAS les imprimantes\, l
 es télévisions\, les écrans d'ordinateur\, la téléphonie mobile et le
 s appareils photos\n 	pensez à amener votre chargeur / disque  dur / cl
 é USB\n
CATEGORIES:Informatique
LOCATION:QG des Éco-acteurs / Communauté des Engagés\, 26/28 Allée Léo
 n Gambetta\, Marseille\, 13001\, France
GEO:43.298782;5.382443
X-APPLE-STRUCTURED-LOCATION;VALUE=URI;X-ADDRESS=26/28 Allée Léon Gambetta
 \, Marseille\, 13001\, France;X-APPLE-RADIUS=100;X-TITLE=QG des Éco-acteu
 rs / Communauté des Engagés:geo:43.298782,5.382443
END:VEVENT
BEGIN:VEVENT
UID:310@repaircafemarseille.fr
DTSTART;TZID=Europe/Paris:20241120T180000
DTEND;TZID=Europe/Paris:20241120T200000
DTSTAMP:20241114T195404Z
URL:https://repaircafemarseille.fr/ateliers/atelier-petit-electromenager-a
 vec-la-maif-au-qg-des-eco-acteurs-13001-mercredi-20-novembre-18h-20h/
SUMMARY:Atelier PETIT ÉLECTROMÉNAGER avec la MAIF au QG des Eco-acteurs (
 13001)\, mercredi 20 novembre 18h-20h (COMPLET)
DESCRIPTION:\n 	\n\nLa MAIF Marseille\, partenaire du Repair Café Marseill
 e\, nous invite au QG des Éco-acteurs pour un atelier de réparation PETI
 T ÉLECTROMÉNAGER\, le mercredi 20 novembre 2024 de 18h à 20h.\n\nLes p
 articipants doivent arriver entre 18h et 18h30 maximum.\n\nSi votre cafeti
 ère déraille\, que votre grille pain ne grille plus\, que votre aspirate
 ur souffle ou que votre robot ménager a lâché\, venez les réparer avec
  notre équipe de choc !\n\nSi vous avez l’âme d’un réparateur\, d
 ’un sauveteur de cafetière et autre héros des temps modernes\, venez n
 ous rencontrer !\n\nAccès à l'atelier :\n\n 	QG des Éco-acteurs\, 26/28
  Allée Léon Gambetta\, 13001 Marseille\n 	Transports :\n\n 	Métro M1 
 – Arrêt Réformés – Canebière\n 	Bus 52 – Arrêt Gambetta Athène
 s\n 	Tramway T2 – Arrêt Canebière Garibaldi\n\n\n\nIMPORTANT :\n\n\n 	
 inscription en ligne obligatoire\n 	description de votre objet et de la pa
 nne obligatoire\, 1 appareil par personne\n 	Nous réparons bénévolement
  le Petit Electroménager : bouilloire\, cafetière\, aspirateur\, fer à 
 repasser\, robot de cuisine\, ventilateur … mais pas les micro-ondes\, l
 es télévisions ou le Gros Electroménager (lave-linge\, frigo\, lave-vai
 sselle…)\n
CATEGORIES:Jeux et jouets,Petit électroménager
LOCATION:QG des Éco-acteurs / Communauté des Engagés\, 26/28 Allée Léo
 n Gambetta\, Marseille\, 13001\, France
GEO:43.298782;5.382443
X-APPLE-STRUCTURED-LOCATION;VALUE=URI;X-ADDRESS=26/28 Allée Léon Gambetta
 \, Marseille\, 13001\, France;X-APPLE-RADIUS=100;X-TITLE=QG des Éco-acteu
 rs / Communauté des Engagés:geo:43.298782,5.382443
END:VEVENT
BEGIN:VTIMEZONE
TZID:Europe/Paris
X-LIC-LOCATION:Europe/Paris
BEGIN:DAYLIGHT
DTSTART:20230326T030000
TZOFFSETFROM:+0100
TZOFFSETTO:+0200
TZNAME:CEST
END:DAYLIGHT
BEGIN:STANDARD
DTSTART:20231029T020000
TZOFFSETFROM:+0200
TZOFFSETTO:+0100
TZNAME:CET
END:STANDARD
BEGIN:DAYLIGHT
DTSTART:20240331T030000
TZOFFSETFROM:+0100
TZOFFSETTO:+0200
TZNAME:CEST
END:DAYLIGHT
BEGIN:STANDARD
DTSTART:20241027T020000
TZOFFSETFROM:+0200
TZOFFSETTO:+0100
TZNAME:CET
END:STANDARD
END:VTIMEZONE
END:VCALENDAR