BEGIN:VCALENDAR
VERSION:2.0
PRODID:-//wp-events-plugin.com//5.973//EN
TZID:Europe/Paris
X-WR-TIMEZONE:Europe/Paris
BEGIN:VEVENT
UID:157@repaircafemarseille.fr
DTSTART;TZID=Europe/Paris:20190925T180000
DTEND;TZID=Europe/Paris:20190925T200000
DTSTAMP:20190921T134844Z
URL:https://repaircafemarseille.fr/ateliers/atelier-informatique-a-la-maif
 -marseille-mercredi-25-septembre-18h-20h/
SUMMARY:Atelier Informatique à la MAIF Marseille\, mercredi 25 septembre 1
 8h-20h
DESCRIPTION:\n\nLa MAIF  délégation départementale de Pont de Vivaux et 
 partenaire du Repair Café Marseille nous invite dans ses locaux (Immeuble
  le Zénith\, 179 Boulevard Mireille Lauze\, 13010 Marseille) pour un atel
 ier de réparation Informatique\, le mercredi 25 septembre 2019 de 18h à 
 20h.\n\n\nSi votre ordinateur vous parle\, si la carte mère réclame son 
 fil(s) ou que les câbles s'emmêlent\, venez réparer avec notre équipe 
 de choc votre matériel informatique.\n\nSi vous avez l'âme d'un réparat
 eur\, d'un sauveteur de PC et autre héros des temps modernes\, venez nous
  rencontrer !\n\nIMPORTANT :\n\n\n 	inscription en ligne obligatoire\n 	de
 scription de votre objet et de la panne obligatoire\, 1 appareil par perso
 nne\n 	pas d'imprimante\, de téléphone mobile ou d'appareil photo\n 	pen
 sez à amener votre chargeur / disque  dur / clé USB\n
CATEGORIES:Informatique,Logiciels et fichiers
LOCATION:MAIF Marseille\, Immeuble le Zénith\, 179 Boulevard Mireille Lauz
 e\, Marseille\, 13010\, France
GEO:43.284174;5.417821
X-APPLE-STRUCTURED-LOCATION;VALUE=URI;X-ADDRESS=Immeuble le Zénith\, 179 B
 oulevard Mireille Lauze\, Marseille\, 13010\, France;X-APPLE-RADIUS=100;X-
 TITLE=MAIF Marseille:geo:43.284174,5.417821
END:VEVENT
BEGIN:VEVENT
UID:161@repaircafemarseille.fr
DTSTART;TZID=Europe/Paris:20191211T180000
DTEND;TZID=Europe/Paris:20191211T200000
DTSTAMP:20191204T222619Z
URL:https://repaircafemarseille.fr/ateliers/atelier-informatique-a-la-maif
 -marseille-mercredi-11-decembre-18h-20h/
SUMMARY:Atelier Informatique à la MAIF Marseille\, mercredi 11 décembre 1
 8h-20h
DESCRIPTION:\n\nLa MAIF  délégation départementale de Pont de Vivaux et 
 partenaire du Repair Café Marseille nous invite dans ses locaux (Immeuble
  le Zénith\, 179 Boulevard Mireille Lauze\, 13010 Marseille) pour un atel
 ier de réparation Informatique\, le mercredi 11 décembre 2019 de 18h à 
 20h.\n\n\nSi votre ordinateur vous parle\, si la carte mère réclame son 
 fil(s) ou que les câbles s'emmêlent\, venez réparer avec notre équipe 
 de choc votre matériel informatique.\n\nSi vous avez l'âme d'un réparat
 eur\, d'un sauveteur de PC et autre héros des temps modernes\, venez nous
  rencontrer !\n\nIMPORTANT :\n\n\n 	inscription en ligne obligatoire\n 	de
 scription de votre objet et de la panne obligatoire\, 1 appareil par perso
 nne\n 	pas d'imprimante\, de téléphone mobile ou d'appareil photo\n 	pen
 sez à amener votre chargeur / disque  dur / clé USB\n
CATEGORIES:Informatique,Logiciels et fichiers
LOCATION:MAIF Marseille\, Immeuble le Zénith\, 179 Boulevard Mireille Lauz
 e\, Marseille\, 13010\, France
GEO:43.284174;5.417821
X-APPLE-STRUCTURED-LOCATION;VALUE=URI;X-ADDRESS=Immeuble le Zénith\, 179 B
 oulevard Mireille Lauze\, Marseille\, 13010\, France;X-APPLE-RADIUS=100;X-
 TITLE=MAIF Marseille:geo:43.284174,5.417821
END:VEVENT
BEGIN:VEVENT
UID:169@repaircafemarseille.fr
DTSTART;TZID=Europe/Paris:20200129T180000
DTEND;TZID=Europe/Paris:20200129T200000
DTSTAMP:20200126T155454Z
URL:https://repaircafemarseille.fr/ateliers/atelier-informatique-a-la-maif
 -marseille-mercredi-29-janvier-18h-20h/
SUMMARY:Atelier Informatique à la MAIF Marseille\, mercredi 29 janvier 18h
 -20h
DESCRIPTION:\n\nLa MAIF  délégation départementale de Pont de Vivaux et 
 partenaire du Repair Café Marseille nous invite dans ses locaux (Immeuble
  le Zénith\, 179 Boulevard Mireille Lauze\, 13010 Marseille) pour un atel
 ier de réparation Informatique\, le mercredi 29 janvier 2020 de 18h à 20
 h.\n\n\nSi votre ordinateur vous parle\, si la carte mère réclame son fi
 l(s) ou que les câbles s'emmêlent\, venez réparer avec notre équipe de
  choc votre matériel informatique.\n\nSi vous avez l'âme d'un réparateu
 r\, d'un sauveteur de PC et autre héros des temps modernes\, venez nous r
 encontrer !\n\nIMPORTANT :\n\n\n 	inscription en ligne obligatoire\n 	desc
 ription de votre objet et de la panne obligatoire\, 1 appareil par personn
 e\n 	pas d'imprimante\, de téléphone mobile ou d'appareil photo\n 	pense
 z à amener votre chargeur / disque  dur / clé USB\n
CATEGORIES:Informatique,Logiciels et fichiers
LOCATION:MAIF Marseille\, Immeuble le Zénith\, 179 Boulevard Mireille Lauz
 e\, Marseille\, 13010\, France
GEO:43.284174;5.417821
X-APPLE-STRUCTURED-LOCATION;VALUE=URI;X-ADDRESS=Immeuble le Zénith\, 179 B
 oulevard Mireille Lauze\, Marseille\, 13010\, France;X-APPLE-RADIUS=100;X-
 TITLE=MAIF Marseille:geo:43.284174,5.417821
END:VEVENT
BEGIN:VEVENT
UID:187@repaircafemarseille.fr
DTSTART;TZID=Europe/Paris:20210623T180000
DTEND;TZID=Europe/Paris:20210623T200000
DTSTAMP:20210928T063929Z
URL:https://repaircafemarseille.fr/ateliers/atelier-informatique-a-la-maif
 -marseille-mercredi-23-juin-18h-20h/
SUMMARY:Atelier Informatique à la MAIF Marseille\, mercredi 23 juin 18h-20
 h
DESCRIPTION:\n\nAprès une longue interruption liée aux conditions sanitai
 res\, nous sommes ravis de reprendre les ateliers Repair Café Marseille e
 n partenariat avec la MAIF !\n\nLa MAIF  délégation départementale de P
 ont de Vivaux et partenaire du Repair Café Marseille nous invite dans ses
  locaux (Immeuble le Zénith\, 179 Boulevard Mireille Lauze\, 13010 Marsei
 lle) pour un atelier de réparation Informatique\, le mercredi 23 juin 202
 1 de 18h à 20h.\n\n\nSi votre ordinateur vous parle\, si la carte mère r
 éclame son fil(s) ou que les câbles s'emmêlent\, venez réparer avec no
 tre équipe de choc votre matériel informatique.\n\nSi vous avez l'âme d
 'un réparateur\, d'un sauveteur de PC et autre héros des temps modernes\
 , venez nous rencontrer !\n\nIMPORTANT :\n\n\n 	inscription en ligne oblig
 atoire\n 	masque obligatoire\n 	description de votre objet et de la panne 
 obligatoire\, 1 appareil par personne\n 	pas d'imprimante\, de téléphone
  mobile ou d'appareil photo\n 	pensez à amener votre chargeur / disque  
 dur / clé USB\n
CATEGORIES:Informatique,Logiciels et fichiers
LOCATION:MAIF Marseille\, Immeuble le Zénith\, 179 Boulevard Mireille Lauz
 e\, Marseille\, 13010\, France
GEO:43.284174;5.417821
X-APPLE-STRUCTURED-LOCATION;VALUE=URI;X-ADDRESS=Immeuble le Zénith\, 179 B
 oulevard Mireille Lauze\, Marseille\, 13010\, France;X-APPLE-RADIUS=100;X-
 TITLE=MAIF Marseille:geo:43.284174,5.417821
END:VEVENT
BEGIN:VEVENT
UID:188@repaircafemarseille.fr
DTSTART;TZID=Europe/Paris:20210918T100000
DTEND;TZID=Europe/Paris:20210918T120000
DTSTAMP:20210928T063625Z
URL:https://repaircafemarseille.fr/ateliers/atelier-informatique-a-la-maif
 -marseille-samedi-18-septembre-10h-12h/
SUMMARY:Atelier Informatique à la MAIF Marseille\, samedi 18 septembre 10h
 -12h
DESCRIPTION:\n\n&nbsp\;\n\nLa MAIF  délégation départementale de Pont de
  Vivaux et partenaire du Repair Café Marseille nous invite dans ses locau
 x (Immeuble le Zénith\, 179 Boulevard Mireille Lauze\, 13010 Marseille) p
 our un atelier de réparation Informatique\, le samedi 18 septembre 2021 d
 e 10h à 12h.\n\n\nSi votre ordinateur vous parle\, si la carte mère réc
 lame son fil(s) ou que les câbles s'emmêlent\, venez réparer avec notre
  équipe de choc votre matériel informatique.\n\nSi vous avez l'âme d'un
  réparateur\, d'un sauveteur de PC et autre héros des temps modernes\, v
 enez nous rencontrer !\n\nIMPORTANT :\n\n\n 	inscription en ligne obligato
 ire\n 	masque obligatoire\n 	description de votre objet et de la panne obl
 igatoire\, 1 appareil par personne\n 	pas d'imprimante\, de téléphone mo
 bile ou d'appareil photo\n 	pensez à amener votre chargeur / disque  dur
  / clé USB\n
CATEGORIES:Informatique,Logiciels et fichiers
LOCATION:MAIF Marseille\, Immeuble le Zénith\, 179 Boulevard Mireille Lauz
 e\, Marseille\, 13010\, France
GEO:43.284174;5.417821
X-APPLE-STRUCTURED-LOCATION;VALUE=URI;X-ADDRESS=Immeuble le Zénith\, 179 B
 oulevard Mireille Lauze\, Marseille\, 13010\, France;X-APPLE-RADIUS=100;X-
 TITLE=MAIF Marseille:geo:43.284174,5.417821
END:VEVENT
BEGIN:VEVENT
UID:195@repaircafemarseille.fr
DTSTART;TZID=Europe/Paris:20211117T180000
DTEND;TZID=Europe/Paris:20211117T200000
DTSTAMP:20211113T080922Z
URL:https://repaircafemarseille.fr/ateliers/atelier-informatique-a-la-maif
 -marseille-mercredi-17-novembre-18h-20h/
SUMMARY:Atelier Informatique à la MAIF Marseille\, mercredi 17 novembre 18
 h-20h - COMPLET
DESCRIPTION:\n\n&nbsp\;\n\nLa MAIF  délégation départementale de Pont de
  Vivaux et partenaire du Repair Café Marseille nous invite dans ses locau
 x (Immeuble le Zénith\, 179 Boulevard Mireille Lauze\, 13010 Marseille) p
 our un atelier de réparation INFORMATIQUE\, le mercredi 17 novembre 2021 
 de 18h à 20h.\n\n\nSi votre ordinateur vous parle\, si la carte mère ré
 clame son fil(s) ou que les câbles s'emmêlent\, venez réparer avec notr
 e équipe de choc votre matériel informatique.\n\nSi vous avez l'âme d'u
 n réparateur\, d'un sauveteur de PC et autre héros des temps modernes\, 
 venez nous rencontrer !\n\nIMPORTANT :\n\n\n 	inscription en ligne obligat
 oire\n 	masque obligatoire\n 	description de votre objet et de la panne ob
 ligatoire\, 1 appareil par personne\n 	pas d'imprimante\, de téléphone m
 obile ou d'appareil photo\n 	pensez à amener votre chargeur / disque  du
 r / clé USB\n
CATEGORIES:Informatique,Jeux et jouets
LOCATION:MAIF Marseille\, Immeuble le Zénith\, 179 Boulevard Mireille Lauz
 e\, Marseille\, 13010\, France
GEO:43.284174;5.417821
X-APPLE-STRUCTURED-LOCATION;VALUE=URI;X-ADDRESS=Immeuble le Zénith\, 179 B
 oulevard Mireille Lauze\, Marseille\, 13010\, France;X-APPLE-RADIUS=100;X-
 TITLE=MAIF Marseille:geo:43.284174,5.417821
END:VEVENT
BEGIN:VEVENT
UID:199@repaircafemarseille.fr
DTSTART;TZID=Europe/Paris:20211201T180000
DTEND;TZID=Europe/Paris:20211201T200000
DTSTAMP:20211130T153214Z
URL:https://repaircafemarseille.fr/ateliers/atelier-informatique-a-la-maif
 -marseille-mercredi-1er-decembre-18h-20h/
SUMMARY:Atelier Informatique à la MAIF Marseille\, mercredi 1er décembre 
 18h-20h - ANNULÉ
DESCRIPTION:Nous sommes contraints d'annuler l'atelier en raison d'un cas C
 ovid positif dans l'équipe de bénévoles.\n\n\n\n&nbsp\;\n\nLa MAIF  dé
 légation départementale de Pont de Vivaux et partenaire du Repair Café 
 Marseille nous invite dans ses locaux (détails sur l'accès ci-dessous) p
 our un atelier de réparation INFORMATIQUE\, le mercredi 1er décembre 202
 1 de 18h à 20h.\nLes participants doivent arriver entre 18h et 18h30 maxi
 mum.\n\n\nSi votre ordinateur vous parle\, si la carte mère réclame son 
 fil(s) ou que les câbles s'emmêlent\, venez réparer avec notre équipe 
 de choc votre matériel informatique.\n\nSi vous avez l'âme d'un réparat
 eur\, d'un sauveteur de PC et autre héros des temps modernes\, venez nous
  rencontrer !\n\nAccès à l'atelier :\n\n 	MAIF Marseille\, 179 boulevard
  Mireille Lauze 13010 Marseille\n 	Bâtiment Le Zénith\n 	Au portail blan
 c sonner sur le bouton MAIF\n 	Avancer dans l'allée jusqu'au bout et gare
 z vous à gauche\n 	Entrer dans le dernier bâtiment à droite (sonner si 
 la porte est fermée) et monter au 1er étage\n\nIMPORTANT :\n\n\n 	inscri
 ption en ligne obligatoire\n 	masque obligatoire\n 	description de votre o
 bjet et de la panne obligatoire\, 1 appareil par personne\n 	pas d'imprima
 nte\, de téléphone mobile ou d'appareil photo\n 	pensez à amener votre 
 chargeur / disque  dur / clé USB\n
CATEGORIES:Informatique,Jeux et jouets
LOCATION:MAIF Marseille\, Immeuble le Zénith\, 179 Boulevard Mireille Lauz
 e\, Marseille\, 13010\, France
GEO:43.284174;5.417821
X-APPLE-STRUCTURED-LOCATION;VALUE=URI;X-ADDRESS=Immeuble le Zénith\, 179 B
 oulevard Mireille Lauze\, Marseille\, 13010\, France;X-APPLE-RADIUS=100;X-
 TITLE=MAIF Marseille:geo:43.284174,5.417821
END:VEVENT
BEGIN:VEVENT
UID:205@repaircafemarseille.fr
DTSTART;TZID=Europe/Paris:20220309T180000
DTEND;TZID=Europe/Paris:20220309T200000
DTSTAMP:20220307T140217Z
URL:https://repaircafemarseille.fr/ateliers/atelier-informatique-a-la-maif
 -marseille-mercredi-9-mars-18h-20h/
SUMMARY:Atelier INFORMATIQUE à la MAIF Marseille\, mercredi 9 mars 18h-20h
  - COMPLET
DESCRIPTION:La MAIF  délégation départementale de Pont de Vivaux et part
 enaire du Repair Café Marseille nous invite dans ses locaux (détails sur
  l'accès ci-dessous) pour un atelier de réparation INFORMATIQUE\, le mer
 credi 9 mars 2022 de 18h à 20h.\nLes participants doivent arriver entre 1
 8h et 18h30 maximum.\n\n\nSi votre ordinateur vous parle\, si la carte mè
 re réclame son fil(s) ou que les câbles s'emmêlent\, venez réparer ave
 c notre équipe de choc votre matériel informatique.\n\nSi vous avez l'â
 me d'un réparateur\, d'un sauveteur de PC et autre héros des temps moder
 nes\, venez nous rencontrer !\n\nAccès à l'atelier :\n\n 	MAIF Marseille
 \, 179 boulevard Mireille Lauze 13010 Marseille\n 	Bâtiment Le Zénith\n 
 	Au portail blanc sonner sur le bouton MAIF\n 	Avancer dans l'allée jusqu
 'au bout et garez vous à gauche\n 	Entrer dans le dernier bâtiment à dr
 oite (sonner si la porte est fermée) et monter au 1er étage\n\nIMPORTANT
  :\n\n\n 	inscription en ligne obligatoire\n 	masque obligatoire\n 	descri
 ption de votre objet et de la panne obligatoire\, 1 appareil par personne\
 n 	pas d'imprimante\, de téléphone mobile ou d'appareil photo\n 	pensez 
 à amener votre chargeur / disque  dur / clé USB\n
CATEGORIES:Informatique,Jeux et jouets
LOCATION:MAIF Marseille\, Immeuble le Zénith\, 179 Boulevard Mireille Lauz
 e\, Marseille\, 13010\, France
GEO:43.284174;5.417821
X-APPLE-STRUCTURED-LOCATION;VALUE=URI;X-ADDRESS=Immeuble le Zénith\, 179 B
 oulevard Mireille Lauze\, Marseille\, 13010\, France;X-APPLE-RADIUS=100;X-
 TITLE=MAIF Marseille:geo:43.284174,5.417821
END:VEVENT
BEGIN:VEVENT
UID:217@repaircafemarseille.fr
DTSTART;TZID=Europe/Paris:20220601T180000
DTEND;TZID=Europe/Paris:20220601T200000
DTSTAMP:20220531T115138Z
URL:https://repaircafemarseille.fr/ateliers/atelier-informatique-a-la-maif
 -marseille-mercredi-1er-juin-18h-20h/
SUMMARY:Atelier INFORMATIQUE à la MAIF Marseille\, mercredi 1er juin 18h-2
 0h
DESCRIPTION:La MAIF  délégation départementale de Pont de Vivaux et part
 enaire du Repair Café Marseille nous invite dans ses locaux (détails sur
  l'accès ci-dessous) pour un atelier de réparation INFORMATIQUE\, le mer
 credi 1er juin 2022 de 18h à 20h.\nLes participants doivent arriver entre
  18h et 18h30 maximum.\n\n\nSi votre ordinateur vous parle\, si la carte m
 ère réclame son fil(s) ou que les câbles s'emmêlent\, venez réparer a
 vec notre équipe de choc votre matériel informatique.\n\nSi vous avez l'
 âme d'un réparateur\, d'un sauveteur de PC et autre héros des temps mod
 ernes\, venez nous rencontrer !\n\nAccès à l'atelier :\n\n 	MAIF Marseil
 le\, 179 boulevard Mireille Lauze 13010 Marseille\n 	Bâtiment Le Zénith\
 n 	Au portail blanc sonner sur le bouton MAIF\n 	Avancer dans l'allée jus
 qu'au bout et garez vous à gauche\n 	Entrer dans le dernier bâtiment à 
 droite (sonner si la porte est fermée) et monter au 1er étage\n\nIMPORTA
 NT :\n\n\n 	inscription en ligne obligatoire\n 	description de votre objet
  et de la panne obligatoire\, 1 appareil par personne\n 	pas d'imprimante\
 , de téléphone mobile\, de télévision ou d'appareil photo\n 	pensez à
  amener votre chargeur / disque  dur / clé USB\n
CATEGORIES:Informatique,Jeux et jouets
LOCATION:MAIF Marseille\, Immeuble le Zénith\, 179 Boulevard Mireille Lauz
 e\, Marseille\, 13010\, France
GEO:43.284174;5.417821
X-APPLE-STRUCTURED-LOCATION;VALUE=URI;X-ADDRESS=Immeuble le Zénith\, 179 B
 oulevard Mireille Lauze\, Marseille\, 13010\, France;X-APPLE-RADIUS=100;X-
 TITLE=MAIF Marseille:geo:43.284174,5.417821
END:VEVENT
BEGIN:VEVENT
UID:218@repaircafemarseille.fr
DTSTART;TZID=Europe/Paris:20220601T180000
DTEND;TZID=Europe/Paris:20220601T200000
DTSTAMP:20220531T082514Z
URL:https://repaircafemarseille.fr/ateliers/atelier-petit-electromenager-a
 -la-maif-marseille-mercredi-1er-juin-18h-20h/
SUMMARY:Atelier PETIT ÉLECTROMÉNAGER à la MAIF Marseille\, mercredi 1er 
 juin 18h-20h - COMPLET
DESCRIPTION:La MAIF  délégation départementale de Pont de Vivaux et part
 enaire du Repair Café Marseille nous invite dans ses locaux (détails sur
  l'accès ci-dessous) pour un atelier de réparation PETIT ÉLECTROMÉNAGE
 R\, le mercredi 1er juin 2022 de 18h à 20h.\nLes participants doivent arr
 iver entre 18h et 18h30 maximum.\n\n\nSi votre cafetière déraille\, que 
 votre grille pain ne grille plus\, que votre aspirateur souffle ou que vot
 re robot ménager a lâché\, venez les réparer avec notre équipe de cho
 c !\n\nSi vous avez l’âme d’un réparateur\, d’un sauveteur de cafe
 tière et autre héros des temps modernes\, venez nous rencontrer !\n\nAcc
 ès à l'atelier :\n\n 	MAIF Marseille\, 179 boulevard Mireille Lauze 1301
 0 Marseille\n 	Bâtiment Le Zénith\n 	Au portail blanc sonner sur le bout
 on MAIF\n 	Avancer dans l'allée jusqu'au bout et garez vous à gauche\n 	
 Entrer dans le dernier bâtiment à droite (sonner si la porte est fermée
 ) et monter au 1er étage\n\nIMPORTANT :\n\n\n 	inscription en ligne oblig
 atoire\n 	description de votre objet et de la panne obligatoire\, 1 appare
 il par personne\n 	Nous réparons bénévolement le Petit Electroménager 
 : bouilloire\, cafetière\, aspirateur\, fer à repasser\, robot de cuisin
 e\, ventilateur … mais pas les micro-ondes\, les télévisions ou le Gro
 s Electroménager (lave-linge\, frigo\, lave-vaisselle…)\n
CATEGORIES:Jeux et jouets,Petit électroménager
LOCATION:MAIF Marseille\, Immeuble le Zénith\, 179 Boulevard Mireille Lauz
 e\, Marseille\, 13010\, France
GEO:43.284174;5.417821
X-APPLE-STRUCTURED-LOCATION;VALUE=URI;X-ADDRESS=Immeuble le Zénith\, 179 B
 oulevard Mireille Lauze\, Marseille\, 13010\, France;X-APPLE-RADIUS=100;X-
 TITLE=MAIF Marseille:geo:43.284174,5.417821
END:VEVENT
BEGIN:VEVENT
UID:224@repaircafemarseille.fr
DTSTART;TZID=Europe/Paris:20220921T180000
DTEND;TZID=Europe/Paris:20220921T200000
DTSTAMP:20220919T084054Z
URL:https://repaircafemarseille.fr/ateliers/atelier-informatique-a-la-maif
 -marseille-mercredi-21-septembre-18h-20h/
SUMMARY:Atelier INFORMATIQUE à la MAIF Marseille\, mercredi 21 septembre 1
 8h-20h - COMPLET
DESCRIPTION:La MAIF  délégation départementale de Pont de Vivaux et part
 enaire du Repair Café Marseille nous invite dans ses locaux (détails sur
  l'accès ci-dessous) pour un atelier de réparation INFORMATIQUE\, le mer
 credi 21 septembre 2022 de 18h à 20h.\n\nLes participants doivent arriver
  entre 18h et 18h30 maximum.\n\nSi votre ordinateur vous parle\, si la car
 te mère réclame son fil(s) ou que les câbles s'emmêlent\, venez répar
 er avec notre équipe de choc votre matériel informatique.\n\nSi vous ave
 z l'âme d'un réparateur\, d'un sauveteur de PC et autre héros des temps
  modernes\, venez nous rencontrer !\n\nAccès à l'atelier :\n\n 	MAIF Mar
 seille\, 179 boulevard Mireille Lauze 13010 Marseille\n 	Bâtiment Le Zén
 ith\n 	Au portail blanc sonner sur le bouton MAIF\n 	Avancer dans l'allée
  jusqu'au bout et garez vous à gauche\n 	Entrer dans le dernier bâtiment
  à droite (sonner si la porte est fermée) et monter au 1er étage\n\nIMP
 ORTANT :\n\n\n 	inscription en ligne obligatoire\n 	masque obligatoire\n 	
 description de votre objet et de la panne obligatoire\, 1 appareil par per
 sonne\n 	pas d'imprimante\, de téléphone mobile ou d'appareil photo\n 	p
 ensez à amener votre chargeur / disque  dur / clé USB\n
CATEGORIES:Informatique,Jeux et jouets
LOCATION:MAIF Marseille\, Immeuble le Zénith\, 179 Boulevard Mireille Lauz
 e\, Marseille\, 13010\, France
GEO:43.284174;5.417821
X-APPLE-STRUCTURED-LOCATION;VALUE=URI;X-ADDRESS=Immeuble le Zénith\, 179 B
 oulevard Mireille Lauze\, Marseille\, 13010\, France;X-APPLE-RADIUS=100;X-
 TITLE=MAIF Marseille:geo:43.284174,5.417821
END:VEVENT
BEGIN:VEVENT
UID:229@repaircafemarseille.fr
DTSTART;TZID=Europe/Paris:20221109T180000
DTEND;TZID=Europe/Paris:20221109T200000
DTSTAMP:20221109T123222Z
URL:https://repaircafemarseille.fr/ateliers/atelier-informatique-a-la-maif
 -marseille-mercredi-9-novembre-18h-20h/
SUMMARY:Atelier INFORMATIQUE à la MAIF Marseille\, mercredi 9 novembre 18h
 -20h - COMPLET
DESCRIPTION:La MAIF  délégation départementale de Pont de Vivaux et part
 enaire du Repair Café Marseille nous invite dans ses locaux (détails sur
  l'accès ci-dessous) pour un atelier de réparation INFORMATIQUE\, le mer
 credi 9 novembre 2022 de 18h à 20h.\n\nLes participants doivent arriver e
 ntre 18h et 18h30 maximum.\n\nSi votre ordinateur vous parle\, si la carte
  mère réclame son fil(s) ou que les câbles s'emmêlent\, venez réparer
  avec notre équipe de choc votre matériel informatique.\n\nSi vous avez 
 l'âme d'un réparateur\, d'un sauveteur de PC et autre héros des temps m
 odernes\, venez nous rencontrer !\n\nAccès à l'atelier :\n\n 	MAIF Marse
 ille\, 179 boulevard Mireille Lauze 13010 Marseille\n 	Bâtiment Le Zénit
 h\n 	Au portail blanc sonner sur le bouton MAIF\n 	Avancer dans l'allée j
 usqu'au bout et garez vous à gauche\n 	Entrer dans le dernier bâtiment 
 à droite (sonner si la porte est fermée) et monter au 1er étage\n\nIMPO
 RTANT :\n\n\n 	inscription en ligne obligatoire\n 	masque obligatoire\n 	d
 escription de votre objet et de la panne obligatoire\, 1 appareil par pers
 onne\n 	Nous ne réparons PAS les imprimantes\, les télévisions\, la té
 léphone mobile et les appareils photos\n 	pensez à amener votre chargeur
  / disque  dur / clé USB\n
CATEGORIES:Informatique,Jeux et jouets
LOCATION:MAIF Marseille\, Immeuble le Zénith\, 179 Boulevard Mireille Lauz
 e\, Marseille\, 13010\, France
GEO:43.284174;5.417821
X-APPLE-STRUCTURED-LOCATION;VALUE=URI;X-ADDRESS=Immeuble le Zénith\, 179 B
 oulevard Mireille Lauze\, Marseille\, 13010\, France;X-APPLE-RADIUS=100;X-
 TITLE=MAIF Marseille:geo:43.284174,5.417821
END:VEVENT
BEGIN:VEVENT
UID:231@repaircafemarseille.fr
DTSTART;TZID=Europe/Paris:20221207T180000
DTEND;TZID=Europe/Paris:20221207T200000
DTSTAMP:20221206T090334Z
URL:https://repaircafemarseille.fr/ateliers/atelier-informatique-a-la-maif
 -marseille-mercredi-7-decembre-18h-20h/
SUMMARY:Atelier INFORMATIQUE à la MAIF Marseille\, mercredi 7 décembre 18
 h-20h - COMPLET
DESCRIPTION:\n\nLa MAIF  délégation départementale de Pont de Vivaux et 
 partenaire du Repair Café Marseille nous invite dans ses locaux (détails
  sur l'accès ci-dessous) pour un atelier de réparation INFORMATIQUE\, le
  mercredi 7 décembre 2022 de 18h à 20h.\n\nLes participants doivent arri
 ver entre 18h et 18h30 maximum.\n\nSi votre ordinateur vous parle\, si la 
 carte mère réclame son fil(s) ou que les câbles s'emmêlent\, venez ré
 parer avec notre équipe de choc votre matériel informatique.\n\nSi vous 
 avez l'âme d'un réparateur\, d'un sauveteur de PC et autre héros des te
 mps modernes\, venez nous rencontrer !\n\nAccès à l'atelier :\n\n 	MAIF 
 Marseille\, 179 boulevard Mireille Lauze 13010 Marseille\n 	Bâtiment Le Z
 énith\n 	Au portail blanc sonner sur le bouton MAIF\n 	Avancer dans l'all
 ée jusqu'au bout et garez vous à gauche\n 	Entrer dans le dernier bâtim
 ent à droite (sonner si la porte est fermée) et monter au 1er étage\n\n
 IMPORTANT :\n\n\n 	inscription en ligne obligatoire\n 	masque obligatoire\
 n 	description de votre objet et de la panne obligatoire\, 1 appareil par 
 personne\n 	Nous ne réparons PAS les imprimantes\, les télévisions\, la
  téléphone mobile et les appareils photos\n 	pensez à amener votre char
 geur / disque  dur / clé USB\n
CATEGORIES:Informatique,Jeux et jouets
LOCATION:MAIF Marseille\, Immeuble le Zénith\, 179 Boulevard Mireille Lauz
 e\, Marseille\, 13010\, France
GEO:43.284174;5.417821
X-APPLE-STRUCTURED-LOCATION;VALUE=URI;X-ADDRESS=Immeuble le Zénith\, 179 B
 oulevard Mireille Lauze\, Marseille\, 13010\, France;X-APPLE-RADIUS=100;X-
 TITLE=MAIF Marseille:geo:43.284174,5.417821
END:VEVENT
BEGIN:VEVENT
UID:238@repaircafemarseille.fr
DTSTART;TZID=Europe/Paris:20230208T180000
DTEND;TZID=Europe/Paris:20230208T200000
DTSTAMP:20230207T180636Z
URL:https://repaircafemarseille.fr/ateliers/atelier-informatique-a-la-maif
 -marseille-mercredi-8-fevrier-18h-20h/
SUMMARY:Atelier INFORMATIQUE à la MAIF Marseille\, mercredi 8 février 18h
 -20h - COMPLET
DESCRIPTION:\n\nLa MAIF  délégation départementale de Pont de Vivaux et 
 partenaire du Repair Café Marseille nous invite dans ses locaux (détails
  sur l'accès ci-dessous) pour un atelier de réparation INFORMATIQUE\, le
  mercredi 8 février 2022 de 18h à 20h.\n\nLes participants doivent arriv
 er entre 18h et 18h30 maximum.\n\nSi votre ordinateur vous parle\, si la c
 arte mère réclame son fil(s) ou que les câbles s'emmêlent\, venez rép
 arer avec notre équipe de choc votre matériel informatique.\n\nSi vous a
 vez l'âme d'un réparateur\, d'un sauveteur de PC et autre héros des tem
 ps modernes\, venez nous rencontrer !\n\nAccès à l'atelier :\n\n 	MAIF M
 arseille\, 179 boulevard Mireille Lauze 13010 Marseille\n 	Bâtiment Le Z
 énith\n 	Au portail blanc sonner sur le bouton MAIF\n 	Avancer dans l'all
 ée jusqu'au bout et garez vous à gauche\n 	Entrer dans le dernier bâtim
 ent à droite (sonner si la porte est fermée) et monter au 1er étage\n\n
 IMPORTANT :\n\n\n 	inscription en ligne obligatoire (pas d'inscription par
  email)\n\n 	masque obligatoire\n 	description de votre objet et de la pan
 ne obligatoire\, 1 appareil par personne\n 	Nous ne réparons PAS les impr
 imantes\, les télévisions\, les écrans d'ordinateur\, la téléphone mo
 bile et les appareils photos\n 	pensez à amener votre chargeur / disque 
  dur / clé USB\n
CATEGORIES:Informatique,Jeux et jouets
LOCATION:MAIF Marseille\, Immeuble le Zénith\, 179 Boulevard Mireille Lauz
 e\, Marseille\, 13010\, France
GEO:43.284174;5.417821
X-APPLE-STRUCTURED-LOCATION;VALUE=URI;X-ADDRESS=Immeuble le Zénith\, 179 B
 oulevard Mireille Lauze\, Marseille\, 13010\, France;X-APPLE-RADIUS=100;X-
 TITLE=MAIF Marseille:geo:43.284174,5.417821
END:VEVENT
BEGIN:VTIMEZONE
TZID:Europe/Paris
X-LIC-LOCATION:Europe/Paris
BEGIN:DAYLIGHT
DTSTART:20190331T030000
TZOFFSETFROM:+0100
TZOFFSETTO:+0200
TZNAME:CEST
END:DAYLIGHT
BEGIN:STANDARD
DTSTART:20191027T020000
TZOFFSETFROM:+0200
TZOFFSETTO:+0100
TZNAME:CET
END:STANDARD
BEGIN:DAYLIGHT
DTSTART:20200329T030000
TZOFFSETFROM:+0100
TZOFFSETTO:+0200
TZNAME:CEST
END:DAYLIGHT
BEGIN:STANDARD
DTSTART:20201025T020000
TZOFFSETFROM:+0200
TZOFFSETTO:+0100
TZNAME:CET
END:STANDARD
BEGIN:DAYLIGHT
DTSTART:20210328T030000
TZOFFSETFROM:+0100
TZOFFSETTO:+0200
TZNAME:CEST
END:DAYLIGHT
BEGIN:STANDARD
DTSTART:20211031T020000
TZOFFSETFROM:+0200
TZOFFSETTO:+0100
TZNAME:CET
END:STANDARD
BEGIN:DAYLIGHT
DTSTART:20220327T030000
TZOFFSETFROM:+0100
TZOFFSETTO:+0200
TZNAME:CEST
END:DAYLIGHT
BEGIN:STANDARD
DTSTART:20221030T020000
TZOFFSETFROM:+0200
TZOFFSETTO:+0100
TZNAME:CET
END:STANDARD
END:VTIMEZONE
END:VCALENDAR