BEGIN:VCALENDAR
VERSION:2.0
PRODID:-//wp-events-plugin.com//5.973//EN
TZID:Europe/Paris
X-WR-TIMEZONE:Europe/Paris
BEGIN:VEVENT
UID:189@repaircafemarseille.fr
DTSTART;TZID=Europe/Paris:20210925T100000
DTEND;TZID=Europe/Paris:20210925T120000
DTSTAMP:20210928T063749Z
URL:https://repaircafemarseille.fr/ateliers/atelier-informatique-a-la-maif
 -aix-en-provence-samedi-25-septembre-10h-12h/
SUMMARY:Atelier Informatique à la MAIF Aix-en-Provence\, samedi 25 septemb
 re 10h-12h
DESCRIPTION:\n\n&nbsp\;\n\nLa MAIF Aix-en-Provence\, partenaire du Repair 
 Café Marseille\, vous invite dans ses locaux (340 avenue de Brédasque 13
 090 Aix-en-Provence à proximité du centre commercial Géant CASINO dans 
 le quartier du Jas de Bouffan) pour un atelier de réparation Informatique
 \, le samedi 25 septembre 2021 de 10h à 12h.\n\n\nSi votre ordinateur vou
 s parle\, si la carte mère réclame son fil(s) ou que les câbles s'emmê
 lent\, venez réparer avec notre équipe de choc votre matériel informati
 que.\n\nSi vous avez l'âme d'un réparateur\, d'un sauveteur de PC et aut
 re héros des temps modernes\, venez nous rencontrer !\n\nIMPORTANT :\n\n\
 n 	inscription en ligne obligatoire\n 	masque obligatoire\n 	description d
 e votre objet et de la panne obligatoire\, 1 appareil par personne\n 	pas 
 d'imprimante\, de téléphone mobile ou d'appareil photo\n 	pensez à amen
 er votre chargeur / disque  dur / clé USB\n
CATEGORIES:Informatique,Logiciels et fichiers
LOCATION:MAIF Aix-en-Provence\, 340 avenue de Brédasque\, Aix-en-Provence\
 , 13090\, France
GEO:43.535306;5.415989
X-APPLE-STRUCTURED-LOCATION;VALUE=URI;X-ADDRESS=340 avenue de Brédasque\, 
 Aix-en-Provence\, 13090\, France;X-APPLE-RADIUS=100;X-TITLE=MAIF Aix-en-Pr
 ovence:geo:43.535306,5.415989
END:VEVENT
BEGIN:VEVENT
UID:207@repaircafemarseille.fr
DTSTART;TZID=Europe/Paris:20220402T100000
DTEND;TZID=Europe/Paris:20220402T120000
DTSTAMP:20220328T163928Z
URL:https://repaircafemarseille.fr/ateliers/atelier-informatique-a-la-maif
 -aix-en-provence-samedi-2-avril-10h-12h/
SUMMARY:Atelier INFORMATIQUE à la MAIF Aix-en-Provence\, samedi 2 avril 10
 h-12h
DESCRIPTION:\n\n&nbsp\;\n\nLa MAIF Aix-en-Provence\, partenaire du Repair 
 Café Marseille\, vous invite dans ses locaux pour un atelier de réparati
 on INFORMATIQUE\, le samedi 2 avril 2022 de 10h à 12h.\n\n\nSi votre ordi
 nateur vous parle\, si la carte mère réclame son fil(s) ou que les câbl
 es s'emmêlent\, venez réparer avec notre équipe de choc votre matériel
  informatique.\n\nSi vous avez l'âme d'un réparateur\, d'un sauveteur de
  PC et autre héros des temps modernes\, venez nous rencontrer !\n\nAccès
  à l'atelier :\n\n 	\n\n 	340 avenue de Brédasque\, 13090 Aix-en-Provenc
 e\n 	quartier du Jas de Bouffan\n 	à proximité du centre commercial Géa
 nt CASINO\n\n\n\nIMPORTANT :\n\n\n 	inscription en ligne obligatoire\n 	de
 scription de votre objet et de la panne obligatoire\, 1 appareil par perso
 nne\n 	pas d'imprimante\, de télévision\, de téléphone mobile ou d'app
 areil photo\n 	pensez à amener votre chargeur / disque  dur / clé USB\n
CATEGORIES:Informatique,Jeux et jouets,Logiciels et fichiers
LOCATION:MAIF Aix-en-Provence\, 340 avenue de Brédasque\, Aix-en-Provence\
 , 13090\, France
GEO:43.535306;5.415989
X-APPLE-STRUCTURED-LOCATION;VALUE=URI;X-ADDRESS=340 avenue de Brédasque\, 
 Aix-en-Provence\, 13090\, France;X-APPLE-RADIUS=100;X-TITLE=MAIF Aix-en-Pr
 ovence:geo:43.535306,5.415989
END:VEVENT
BEGIN:VEVENT
UID:208@repaircafemarseille.fr
DTSTART;TZID=Europe/Paris:20220402T100000
DTEND;TZID=Europe/Paris:20220402T120000
DTSTAMP:20220328T170318Z
URL:https://repaircafemarseille.fr/ateliers/atelier-petit-electromenager-a
 -la-maif-aix-en-provence-samedi-2-avril-10h-12h/
SUMMARY:Atelier PETIT ÉLECTROMÉNAGER à la MAIF Aix-en-Provence\, samedi 
 2 avril 10h-12h
DESCRIPTION:\n\n&nbsp\;\n\nLa MAIF Aix-en-Provence\, partenaire du Repair 
 Café Marseille\, vous invite dans ses locaux pour un atelier de réparati
 on PETIT ÉLECTROMÉNAGER\, le samedi 2 avril 2022 de 10h à 12h.\n\n\nSi 
 votre cafetière déraille\, que votre grille pain ne grille plus\, que vo
 tre aspirateur souffle ou que votre robot ménager a lâché\, venez les r
 éparer avec notre équipe de choc !\n\nSi vous avez l’âme d’un répa
 rateur\, d’un sauveteur de cafetière et autre héros des temps modernes
 \, venez nous rencontrer !\n\nAccès à l'atelier :\n\n 	\n\n 	340 avenue 
 de Brédasque\, 13090 Aix-en-Provence\n 	quartier du Jas de Bouffan\n 	à 
 proximité du centre commercial Géant CASINO\n\n\n\nIMPORTANT :\n\n\n 	in
 scription en ligne obligatoire\n 	description de votre objet et de la pann
 e obligatoire\, 1 appareil par personne\n 	Nous réparons bénévolement l
 e Petit Electroménager : bouilloire\, cafetière\, aspirateur\, fer à re
 passer\, robot de cuisine\, ventilateur … mais pas les micro-ondes ou le
  Gros Electroménager (lave-linge\, frigo\, lave-vaisselle…)\n
CATEGORIES:Jeux et jouets,Petit électroménager
LOCATION:MAIF Aix-en-Provence\, 340 avenue de Brédasque\, Aix-en-Provence\
 , 13090\, France
GEO:43.535306;5.415989
X-APPLE-STRUCTURED-LOCATION;VALUE=URI;X-ADDRESS=340 avenue de Brédasque\, 
 Aix-en-Provence\, 13090\, France;X-APPLE-RADIUS=100;X-TITLE=MAIF Aix-en-Pr
 ovence:geo:43.535306,5.415989
END:VEVENT
BEGIN:VEVENT
UID:256@repaircafemarseille.fr
DTSTART;TZID=Europe/Paris:20230527T100000
DTEND;TZID=Europe/Paris:20230527T120000
DTSTAMP:20230526T121321Z
URL:https://repaircafemarseille.fr/ateliers/atelier-informatique-a-la-maif
 -aix-en-provence-samedi-27-mai-10h-12h/
SUMMARY:Atelier INFORMATIQUE à la MAIF Aix-en-Provence\, samedi 27 mai 10h
 -12h - COMPLET
DESCRIPTION:\n\n&nbsp\;\n\nLa MAIF Aix-en-Provence\, partenaire du Repair 
 Café Marseille\, vous invite dans ses locaux pour un atelier de réparati
 on INFORMATIQUE\, le samedi 27 mai 2023 de 10h à 12h.\n\n\nSi votre ordin
 ateur vous parle\, si la carte mère réclame son fil(s) ou que les câble
 s s'emmêlent\, venez réparer avec notre équipe de choc votre matériel 
 informatique.\n\nSi vous avez l'âme d'un réparateur\, d'un sauveteur de 
 PC et autre héros des temps modernes\, venez nous rencontrer !\n\nAccès 
 à l'atelier :\n\n 	\n\n 	340 avenue de Brédasque\, 13090 Aix-en-Provence
 \n 	quartier du Jas de Bouffan\n 	à proximité du centre commercial Géan
 t CASINO\n\n\n\nIMPORTANT :\n\n\n 	inscription en ligne obligatoire (pas d
 'inscription par email)\n 	description de votre objet et de la panne oblig
 atoire\, 1 appareil par personne\n 	Nous ne réparons PAS les imprimantes\
 , les télévisions\, la téléphonie mobile et les appareils photos\n 	Pe
 nsez à amener votre chargeur / disque  dur / clé USB\n
CATEGORIES:Informatique,Logiciels et fichiers
LOCATION:MAIF Aix-en-Provence\, 340 avenue de Brédasque\, Aix-en-Provence\
 , 13090\, France
GEO:43.535306;5.415989
X-APPLE-STRUCTURED-LOCATION;VALUE=URI;X-ADDRESS=340 avenue de Brédasque\, 
 Aix-en-Provence\, 13090\, France;X-APPLE-RADIUS=100;X-TITLE=MAIF Aix-en-Pr
 ovence:geo:43.535306,5.415989
END:VEVENT
BEGIN:VEVENT
UID:326@repaircafemarseille.fr
DTSTART;TZID=Europe/Paris:20250315T100000
DTEND;TZID=Europe/Paris:20250315T120000
DTSTAMP:20250313T162732Z
URL:https://repaircafemarseille.fr/ateliers/atelier-informatique-a-la-maif
 -aix-en-provence-samedi-15-mars-10h-12h-3/
SUMMARY:Atelier INFORMATIQUE à la MAIF Aix-en-Provence\, samedi 15 mars 10
 h-12h (COMPLET)
DESCRIPTION:\n\n&nbsp\;\n\nLa MAIF Aix-en-Provence\, partenaire du Repair 
 Café Marseille\, vous invite dans ses locaux pour un atelier de réparati
 on INFORMATIQUE\, le samedi 15 mars 2025 de 10h à 12h.\n\n\nSi votre ord
 inateur vous parle\, si la carte mère réclame son fil(s) ou que les câb
 les s'emmêlent\, venez réparer avec notre équipe de choc votre matérie
 l informatique.\n\nSi vous avez l'âme d'un réparateur\, d'un sauveteur d
 e PC et autre héros des temps modernes\, venez nous rencontrer !\n\nAccè
 s à l'atelier :\n\n 	\n\n 	340 avenue de Brédasque\, 13090 Aix-en-Proven
 ce\n 	quartier du Jas de Bouffan\n 	à proximité du centre commercial Gé
 ant CASINO\n\n\n\nIMPORTANT :\n\n\n 	inscription en ligne obligatoire (pas
  d'inscription par email)\n 	description de votre objet et de la panne obl
 igatoire\, 1 appareil par personne\n 	Nous ne réparons PAS les imprimante
 s\, les télévisions\, la téléphonie mobile et les appareils photos\n 	
 Pensez à amener votre chargeur / disque  dur / clé USB\n
CATEGORIES:Informatique,Logiciels et fichiers
LOCATION:MAIF Aix-en-Provence\, 340 avenue de Brédasque\, Aix-en-Provence\
 , 13090\, France
GEO:43.535306;5.415989
X-APPLE-STRUCTURED-LOCATION;VALUE=URI;X-ADDRESS=340 avenue de Brédasque\, 
 Aix-en-Provence\, 13090\, France;X-APPLE-RADIUS=100;X-TITLE=MAIF Aix-en-Pr
 ovence:geo:43.535306,5.415989
END:VEVENT
BEGIN:VEVENT
UID:327@repaircafemarseille.fr
DTSTART;TZID=Europe/Paris:20250315T100000
DTEND;TZID=Europe/Paris:20250315T120000
DTSTAMP:20250313T162857Z
URL:https://repaircafemarseille.fr/ateliers/atelier-petit-electromenager-a
 -la-maif-aix-en-provence-samedi-15-mars-10h-12h/
SUMMARY:Atelier PETIT ÉLECTROMÉNAGER à la MAIF Aix-en-Provence\, samedi 
 15 mars 10h-12h (COMPLET)
DESCRIPTION:\n\n&nbsp\;\n\nLa MAIF Aix-en-Provence\, partenaire du Repair 
 Café Marseille\, vous invite dans ses locaux pour un atelier de réparati
 on PETIT ÉLECTROMÉNAGER\, le samedi 15 mars 2025 de 10h à 12h.\n\n\nSi
  votre cafetière déraille\, que votre grille pain ne grille plus\, que v
 otre aspirateur souffle ou que votre robot ménager a lâché\, venez les 
 réparer avec notre équipe de choc !\n\nSi vous avez l’âme d’un rép
 arateur\, d’un sauveteur de cafetière et autre héros des temps moderne
 s\, venez nous rencontrer !\n\nAccès à l'atelier :\n\n 	\n\n 	340 avenue
  de Brédasque\, 13090 Aix-en-Provence\n 	quartier du Jas de Bouffan\n 	à
  proximité du centre commercial Géant CASINO\n\n\n\nIMPORTANT :\n\n\n 	i
 nscription en ligne obligatoire\n 	description de votre objet et de la pan
 ne obligatoire\, 1 appareil par personne\n 	Nous réparons bénévolement 
 le Petit Electroménager : bouilloire\, cafetière\, aspirateur\, fer à r
 epasser\, robot de cuisine\, ventilateur … mais pas les micro-ondes ou l
 e Gros Electroménager (lave-linge\, frigo\, lave-vaisselle…)\n
CATEGORIES:Jeux et jouets,Petit électroménager
LOCATION:MAIF Aix-en-Provence\, 340 avenue de Brédasque\, Aix-en-Provence\
 , 13090\, France
GEO:43.535306;5.415989
X-APPLE-STRUCTURED-LOCATION;VALUE=URI;X-ADDRESS=340 avenue de Brédasque\, 
 Aix-en-Provence\, 13090\, France;X-APPLE-RADIUS=100;X-TITLE=MAIF Aix-en-Pr
 ovence:geo:43.535306,5.415989
END:VEVENT
BEGIN:VEVENT
UID:369@repaircafemarseille.fr
DTSTART;TZID=Europe/Paris:20260321T100000
DTEND;TZID=Europe/Paris:20260321T120000
DTSTAMP:20260319T081645Z
URL:https://repaircafemarseille.fr/ateliers/atelier-informatique-et-petit-
 electromenager-a-la-maif-aix-en-provence-samedi-21-mars-10h-12h/
SUMMARY:(COMPLET) Atelier INFORMATIQUE et PETIT ÉLECTROMÉNAGER à la MAIF
  Aix-en-Provence\, samedi 21 mars 10h-12h
DESCRIPTION:\n\n&nbsp\;\n\nLa MAIF Aix-en-Provence\, partenaire du Repair 
 Café Marseille\, vous invite dans ses locaux pour un atelier de réparati
 on INFORMATIQUE et PETIT ÉLECTROMÉNAGER\, le samedi 21 mars 2026 de 10h 
 à 12h.\n\n\nSi votre ordinateur vous parle\, si la carte mère réclame s
 on fil(s) ou que les câbles s'emmêlent ou si votre cafetière déraille\
 , que votre grille pain ne grille plus\, que votre aspirateur souffle ou q
 ue votre robot ménager a lâché\, venez les réparer avec notre équipe 
 de choc !\n\nSi vous avez l'âme d'un réparateur\, d'un sauveteur de PC e
 t autre héros des temps modernes\, venez nous rencontrer !\n\nAccès à l
 'atelier :\n\n 	\n\n 	340 avenue de Brédasque\, 13090 Aix-en-Provence\n 	
 quartier du Jas de Bouffan\n 	à proximité du centre commercial Géant CA
 SINO\n\n\n\nIMPORTANT :\n\n\n 	inscription en ligne obligatoire (pas d'ins
 cription par email)\n\n 	description de votre objet et de la panne obligat
 oire\, 1 appareil par personne\n 	Nous ne réparons PAS les imprimantes\, 
 les télévisions\, les écrans d'ordinateur\, la téléphone mobile et le
 s appareils photos\n 	pensez à amener votre chargeur / disque  dur / cl
 é USB\n 	Nous réparons bénévolement le Petit Electroménager : bouillo
 ire\, cafetière\, aspirateur\, fer à repasser\, robot de cuisine\, venti
 lateur … mais pas les micro-ondes ou le Gros Electroménager (lave-linge
 \, frigo\, lave-vaisselle…)\n
CATEGORIES:Informatique,Jeux et jouets,Logiciels et fichiers,Petit
 électroménager
LOCATION:MAIF Aix-en-Provence\, 340 avenue de Brédasque\, Aix-en-Provence\
 , 13090\, France
GEO:43.535306;5.415989
X-APPLE-STRUCTURED-LOCATION;VALUE=URI;X-ADDRESS=340 avenue de Brédasque\, 
 Aix-en-Provence\, 13090\, France;X-APPLE-RADIUS=100;X-TITLE=MAIF Aix-en-Pr
 ovence:geo:43.535306,5.415989
END:VEVENT
BEGIN:VTIMEZONE
TZID:Europe/Paris
X-LIC-LOCATION:Europe/Paris
BEGIN:DAYLIGHT
DTSTART:20210328T030000
TZOFFSETFROM:+0100
TZOFFSETTO:+0200
TZNAME:CEST
END:DAYLIGHT
BEGIN:STANDARD
DTSTART:20211031T020000
TZOFFSETFROM:+0200
TZOFFSETTO:+0100
TZNAME:CET
END:STANDARD
BEGIN:DAYLIGHT
DTSTART:20220327T030000
TZOFFSETFROM:+0100
TZOFFSETTO:+0200
TZNAME:CEST
END:DAYLIGHT
BEGIN:STANDARD
DTSTART:20221030T020000
TZOFFSETFROM:+0200
TZOFFSETTO:+0100
TZNAME:CET
END:STANDARD
BEGIN:DAYLIGHT
DTSTART:20230326T030000
TZOFFSETFROM:+0100
TZOFFSETTO:+0200
TZNAME:CEST
END:DAYLIGHT
BEGIN:STANDARD
DTSTART:20231029T020000
TZOFFSETFROM:+0200
TZOFFSETTO:+0100
TZNAME:CET
END:STANDARD
BEGIN:DAYLIGHT
DTSTART:20240331T030000
TZOFFSETFROM:+0100
TZOFFSETTO:+0200
TZNAME:CEST
END:DAYLIGHT
BEGIN:STANDARD
DTSTART:20241027T020000
TZOFFSETFROM:+0200
TZOFFSETTO:+0100
TZNAME:CET
END:STANDARD
BEGIN:DAYLIGHT
DTSTART:20250330T030000
TZOFFSETFROM:+0100
TZOFFSETTO:+0200
TZNAME:CEST
END:DAYLIGHT
BEGIN:STANDARD
DTSTART:20251026T020000
TZOFFSETFROM:+0200
TZOFFSETTO:+0100
TZNAME:CET
END:STANDARD
END:VTIMEZONE
END:VCALENDAR