BEGIN:VCALENDAR
VERSION:2.0
PRODID:-//wp-events-plugin.com//5.973//EN
TZID:Europe/Paris
X-WR-TIMEZONE:Europe/Paris
BEGIN:VEVENT
UID:191@repaircafemarseille.fr
DTSTART;TZID=Europe/Paris:20211002T120000
DTEND;TZID=Europe/Paris:20211003T180000
DTSTAMP:20210928T165058Z
URL:https://repaircafemarseille.fr/ateliers/ateliers-repair-cafe-au-festiv
 al-zero-waste-2-et-3-octobre-12h-18h/
SUMMARY:Ateliers Repair Café au Festival Zero Waste\, 2 et 3 octobre 12h-1
 8h
DESCRIPTION:Le Festival Zero Waste Marseille accueille le Repair Café Mars
 eille samedi 2 et dimanche 3 Octobre 2021 de 12h à 18h au Talus Village\,
  603 rue saint-pierre\, 13012 Marseille.\n\n\n\nNous y organisons des atel
 iers de réparation participatifs :\n\n 	Informatique : samedi et dimanche
  de 12h à 18h\n 	Petit Électroménager : dimanche de 12h à 18h\n\n\nExc
 eptionnellement il n'est pas nécessaire de s'inscrire pour ces ateliers :
  retrouvez-nous directement dans l'espace Ateliers "Do-It-Yourself" du Fe
 stival avec votre objet en panne (ordinateur\, bouilloire\, cafetière\, a
 spirateur\, robot ménager\, centrale vapeur...) et ses accessoires (alime
 ntation\, chargeur...).\n\nLe festival et en entrée libre\, l'adhésion e
 st obligatoire à prix libre à Zero Waste Marseille.\n\nSi vous avez l'â
 me d'un réparateur\, d'un sauveteur de PC et/ou de cafetière et autre h
 éros des temps modernes\, venez nous rencontrer !\n\nIMPORTANT :\n\n 	Pas
  d'inscription préalable\, nous prendrons les demandes par ordre d'arriv
 ée\n 	Pass sanitaire obligatoire à l'entrée du festival (une tente de t
 est antigénique est prévue sur place)\n 	Pas d'imprimante\, de télépho
 ne mobile ou d'appareil photo. Pas de gros électroménager.\n 	1 objet à
  réparer par personne\n 	Pensez à amener votre chargeur ou l'alimentatio
 n de votre appareil / disque  dur ou clé USB\n
CATEGORIES:Informatique,Jeux et jouets,Logiciels et fichiers,Petit
 électroménager
LOCATION:Le TALUS Village\, 603 rue Saint Pierre\, Marseille\, 13012\, Fran
 ce
GEO:43.291261;5.423759
X-APPLE-STRUCTURED-LOCATION;VALUE=URI;X-ADDRESS=603 rue Saint Pierre\, Mars
 eille\, 13012\, France;X-APPLE-RADIUS=100;X-TITLE=Le TALUS Village:geo:43.
 291261,5.423759
END:VEVENT
BEGIN:VEVENT
UID:213@repaircafemarseille.fr
DTSTART;TZID=Europe/Paris:20220507T143000
DTEND;TZID=Europe/Paris:20220507T163000
DTSTAMP:20220507T081901Z
URL:https://repaircafemarseille.fr/ateliers/atelier-petit-electromenager-a
 u-talus-village-13012-samedi-7-mai-14h30-16h30/
SUMMARY:Atelier PETIT ÉLECTROMÉNAGER au TALUS Village (13012)\, samedi 7 
 mai 14h30-16h30
DESCRIPTION:Réparons ensemble le PETIT ÉLECTROMÉNAGER au TALUS Village (
 ferme urbaine) qui accueille le Repair Café Marseille le samedi 7 mai 20
 22 de 14h30 à 16h30.\n\nSi votre cafetière déraille\, que votre grille 
 pain ne grille plus\, que votre aspirateur souffle ou que votre robot mén
 ager a lâché\, venez les réparer avec notre équipe de choc !\n\nSi vou
 s avez l’âme d’un réparateur\, d’un sauveteur de cafetière et aut
 re héros des temps modernes\, venez nous rencontrer !\n\nAccès à l'atel
 ier :\n\n 	Le TALUS Village\, 603 - 623 rue Saint-Pierre\, 13012 Marseille
 \n 	Bus 12 et 40 - Arrêt Saint-Pierre Jeanette\n 	Tram T1 - Arrêt La Boi
 seraie\n\nIMPORTANT :\n\n\n 	inscription en ligne obligatoire\n 	descripti
 on de votre objet et de la panne obligatoire\, 1 appareil par personne\n 	
 Nous réparons bénévolement le Petit Electroménager : bouilloire\, cafe
 tière\, aspirateur\, fer à repasser\, robot de cuisine\, ventilateur …
  mais pas les micro-ondes ou le Gros Electroménager (lave-linge\, frigo\,
  lave-vaisselle…)\n
CATEGORIES:Jeux et jouets,Petit électroménager
LOCATION:Le TALUS Village\, 603 rue Saint Pierre\, Marseille\, 13012\, Fran
 ce
GEO:43.291261;5.423759
X-APPLE-STRUCTURED-LOCATION;VALUE=URI;X-ADDRESS=603 rue Saint Pierre\, Mars
 eille\, 13012\, France;X-APPLE-RADIUS=100;X-TITLE=Le TALUS Village:geo:43.
 291261,5.423759
END:VEVENT
BEGIN:VEVENT
UID:214@repaircafemarseille.fr
DTSTART;TZID=Europe/Paris:20220507T143000
DTEND;TZID=Europe/Paris:20220507T163000
DTSTAMP:20220507T080726Z
URL:https://repaircafemarseille.fr/ateliers/atelier-informatique-au-talus-
 village-13012-samedi-7-mai-14h30-16h30/
SUMMARY:Atelier INFORMATIQUE au TALUS Village (13012)\, samedi 7 mai 14h30-
 16h30
DESCRIPTION:Réparons ensemble l'INFORMATIQUE au TALUS Village (ferme urbai
 ne) qui accueille le Repair Café Marseille le samedi 7 mai 2022 de 14h30
  à 16h30.\n\nSi votre ordinateur vous parle\, si la carte mère réclame 
 son fil(s) ou que les câbles s'emmêlent\, venez réparer avec notre équ
 ipe de choc votre matériel informatique.\n\nSi vous avez l'âme d'un rép
 arateur\, d'un sauveteur de PC et autre héros des temps modernes\, venez 
 nous rencontrer !\n\nAccès à l'atelier :\n\n 	Le TALUS Village\, 603 - 6
 23 rue Saint-Pierre\, 13012 Marseille\n 	Bus 12 et 40 - Arrêt Saint-Pierr
 e Jeanette\n 	Tram T1 - Arrêt La Boiseraie\n\nIMPORTANT :\n\n\n 	inscript
 ion en ligne obligatoire\n 	description de votre objet et de la panne obli
 gatoire\, 1 appareil par personne\n 	pas d'imprimante\, de télévision\, 
 de téléphone mobile ou d'appareil photo\n 	pensez à amener votre charge
 ur / disque  dur / clé USB\n
CATEGORIES:Informatique,Jeux et jouets,Logiciels et fichiers
LOCATION:Le TALUS Village\, 603 rue Saint Pierre\, Marseille\, 13012\, Fran
 ce
GEO:43.291261;5.423759
X-APPLE-STRUCTURED-LOCATION;VALUE=URI;X-ADDRESS=603 rue Saint Pierre\, Mars
 eille\, 13012\, France;X-APPLE-RADIUS=100;X-TITLE=Le TALUS Village:geo:43.
 291261,5.423759
END:VEVENT
BEGIN:VEVENT
UID:250@repaircafemarseille.fr
DTSTART;TZID=Europe/Paris:20230513T160000
DTEND;TZID=Europe/Paris:20230513T180000
DTSTAMP:20230513T124336Z
URL:https://repaircafemarseille.fr/ateliers/atelier-petit-electromenager-a
 u-talus-village-13012-samedi-13-mai-16h-18h/
SUMMARY:Atelier PETIT ÉLECTROMÉNAGER au TALUS Village (13012)\, samedi 13
  mai 16h-18h - ANNULÉ
DESCRIPTION:L'atelier qui devait se dérouler sous chapiteau est ANNULÉ en
  raison des conditions météo !\nRéparons ensemble le PETIT ÉLECTROMÉN
 AGER au TALUS Village (ferme urbaine) qui accueille le Repair Café Marse
 ille le samedi 13 mai 2023 de 16h à 18h.\n\nSi votre cafetière déraille
 \, que votre grille pain ne grille plus\, que votre aspirateur souffle ou 
 que votre robot ménager a lâché\, venez les réparer avec notre équipe
  de choc !\n\nSi vous avez l’âme d’un réparateur\, d’un sauveteur 
 de cafetière et autre héros des temps modernes\, venez nous rencontrer !
 \n\nAccès à l'atelier :\n\n 	Le TALUS Village\, 603 - 623 rue Saint-Pier
 re\, 13012 Marseille\n 	Bus 12 et 40 - Arrêt Saint-Pierre Jeanette\n 	Tra
 m T1 - Arrêt La Boiseraie\n\nIMPORTANT :\n\n\n 	inscription en ligne obli
 gatoire\n 	description de votre objet et de la panne obligatoire\, 1 appar
 eil par personne\n 	2 € de participation MINIMUM obligatoire\n 	Nous ré
 parons bénévolement le Petit Electroménager : bouilloire\, cafetière\,
  aspirateur\, fer à repasser\, robot de cuisine\, ventilateur … mais pa
 s les micro-ondes ou le Gros Electroménager (lave-linge\, frigo\, lave-va
 isselle…)\n
CATEGORIES:Jeux et jouets,Petit électroménager
LOCATION:Le TALUS Village\, 603 rue Saint Pierre\, Marseille\, 13012\, Fran
 ce
GEO:43.291261;5.423759
X-APPLE-STRUCTURED-LOCATION;VALUE=URI;X-ADDRESS=603 rue Saint Pierre\, Mars
 eille\, 13012\, France;X-APPLE-RADIUS=100;X-TITLE=Le TALUS Village:geo:43.
 291261,5.423759
END:VEVENT
BEGIN:VEVENT
UID:251@repaircafemarseille.fr
DTSTART;TZID=Europe/Paris:20230513T160000
DTEND;TZID=Europe/Paris:20230513T180000
DTSTAMP:20230513T124318Z
URL:https://repaircafemarseille.fr/ateliers/atelier-informatique-au-talus-
 village-13012-samedi-13-mai-16h-18h/
SUMMARY:Atelier INFORMATIQUE au TALUS Village (13012)\, samedi 13 mai 16h-1
 8h -  ANNULÉ
DESCRIPTION:L'atelier qui devait se dérouler sous chapiteau est ANNULÉ en
  raison des conditions météo !\nRéparons ensemble l'INFORMATIQUE au TAL
 US Village (ferme urbaine) qui accueille le Repair Café Marseille le sam
 edi 13 mai 2023 de 16h à 18h.\n\nSi votre ordinateur vous parle\, si la c
 arte mère réclame son fil(s) ou que les câbles s'emmêlent\, venez rép
 arer avec notre équipe de choc votre matériel informatique.\n\nSi vous a
 vez l'âme d'un réparateur\, d'un sauveteur de PC et autre héros des tem
 ps modernes\, venez nous rencontrer !\n\nAccès à l'atelier :\n\n 	Le TAL
 US Village\, 603 - 623 rue Saint-Pierre\, 13012 Marseille\n 	Bus 12 et 40 
 - Arrêt Saint-Pierre Jeanette\n 	Tram T1 - Arrêt La Boiseraie\n\nIMPORTA
 NT :\n\n\n 	inscription en ligne obligatoire\n 	description de votre objet
  et de la panne obligatoire\, 1 appareil par personne\n 	2 € de particip
 ation MINIMUM obligatoire\n 	Nous ne réparons PAS les imprimantes\, les t
 élévisions\, la téléphonie mobile et les appareils photos\n 	pensez à
  amener votre chargeur / disque  dur / clé USB\n
CATEGORIES:Informatique,Logiciels et fichiers
LOCATION:Le TALUS Village\, 603 rue Saint Pierre\, Marseille\, 13012\, Fran
 ce
GEO:43.291261;5.423759
X-APPLE-STRUCTURED-LOCATION;VALUE=URI;X-ADDRESS=603 rue Saint Pierre\, Mars
 eille\, 13012\, France;X-APPLE-RADIUS=100;X-TITLE=Le TALUS Village:geo:43.
 291261,5.423759
END:VEVENT
BEGIN:VEVENT
UID:298@repaircafemarseille.fr
DTSTART;TZID=Europe/Paris:20240622T100000
DTEND;TZID=Europe/Paris:20240622T120000
DTSTAMP:20240620T071652Z
URL:https://repaircafemarseille.fr/ateliers/atelier-petit-electromenager-a
 u-talus-samedi-22-juin-10h-12h/
SUMMARY:Atelier PETIT ÉLECTROMÉNAGER au TALUS Village (13012)\, samedi 22
  juin 10h-12h
DESCRIPTION:Réparons ensemble le PETIT ÉLECTROMÉNAGER au TALUS Village (
 ferme urbaine) qui accueille le Repair Café Marseille le samedi 22 juin 
 2024 de 10h00 à 12h00.\n\nSi votre cafetière déraille\, que votre grill
 e pain ne grille plus\, que votre aspirateur souffle ou que votre robot m
 énager a lâché\, venez les réparer avec notre équipe de choc !\n\nSi 
 vous avez l’âme d’un réparateur\, d’un sauveteur de cafetière et 
 autre héros des temps modernes\, venez nous rencontrer !\n\nAccès à l'a
 telier :\n\n 	Le TALUS Village\, 603 - 623 rue Saint-Pierre\, 13012 Marsei
 lle\n 	Bus 12 et 40 - Arrêt Saint-Pierre Jeanette\n 	Tram T1 - Arrêt La 
 Boiseraie\n\nIMPORTANT :\n\n\n 	inscription en ligne obligatoire (pas d'in
 scription par email)\n 	description de votre objet et de la panne obligato
 ire\, 1 appareil par personne\n 	2 € de participation MINIMUM obligatoir
 e\n 	Nous réparons bénévolement le Petit Electroménager : bouilloire\,
  cafetière\, aspirateur\, fer à repasser\, robot de cuisine\, ventilateu
 r … mais pas les micro-ondes\, les télévisions\, les magnétoscopes ou
  le Gros Electroménager (lave-linge\, frigo\, lave-vaisselle…)\n
CATEGORIES:Jeux et jouets,Petit électroménager
LOCATION:Le TALUS Village\, 603 rue Saint Pierre\, Marseille\, 13012\, Fran
 ce
GEO:43.291261;5.423759
X-APPLE-STRUCTURED-LOCATION;VALUE=URI;X-ADDRESS=603 rue Saint Pierre\, Mars
 eille\, 13012\, France;X-APPLE-RADIUS=100;X-TITLE=Le TALUS Village:geo:43.
 291261,5.423759
END:VEVENT
BEGIN:VEVENT
UID:299@repaircafemarseille.fr
DTSTART;TZID=Europe/Paris:20240622T100000
DTEND;TZID=Europe/Paris:20240622T120000
DTSTAMP:20240614T095855Z
URL:https://repaircafemarseille.fr/ateliers/atelier-informatique-au-talus-
 samedi-22-juin-10h-12h/
SUMMARY:Atelier INFORMATIQUE au TALUS Village (13012)\, samedi 22 juin 10h-
 12h
DESCRIPTION:Réparons ensemble l'INFORMATIQUE  au TALUS Village (ferme ur
 baine) qui accueille le Repair Café Marseille le samedi 22 juin 2024 de 
 10h à 12h !\n\nSi votre ordinateur vous parle\, si la carte mère réclam
 e son fil(s) ou que les câbles s'emmêlent\, venez réparer avec notre é
 quipe de choc votre matériel informatique.\n\nSi vous avez l'âme d'un r
 éparateur\, d'un sauveteur de PC et autre héros des temps modernes\, ven
 ez nous rencontrer !\n\nAccès à l'atelier :\n\n 	Le TALUS Village\, 603 
 - 623 rue Saint-Pierre\, 13012 Marseille\n 	Bus 12 et 40 - Arrêt Saint-Pi
 erre Jeanette\n 	Tram T1 - Arrêt La Boiseraie\n\nIMPORTANT :\n\n\n 	inscr
 iption en ligne obligatoire\n 	description de votre objet et de la panne o
 bligatoire\, 1 appareil par personne\n 	2 € de participation MINIMUM obl
 igatoire\n 	Nous ne réparons PAS les imprimantes\, les télévisions\, le
 s écrans d’ordinateur\, la téléphonie mobile et les appareils photos\
 n 	pensez à amener votre chargeur / disque dur / clé USB\n
CATEGORIES:Informatique
LOCATION:Le TALUS Village\, 603 rue Saint Pierre\, Marseille\, 13012\, Fran
 ce
GEO:43.291261;5.423759
X-APPLE-STRUCTURED-LOCATION;VALUE=URI;X-ADDRESS=603 rue Saint Pierre\, Mars
 eille\, 13012\, France;X-APPLE-RADIUS=100;X-TITLE=Le TALUS Village:geo:43.
 291261,5.423759
END:VEVENT
BEGIN:VTIMEZONE
TZID:Europe/Paris
X-LIC-LOCATION:Europe/Paris
BEGIN:DAYLIGHT
DTSTART:20210328T030000
TZOFFSETFROM:+0100
TZOFFSETTO:+0200
TZNAME:CEST
END:DAYLIGHT
BEGIN:STANDARD
DTSTART:20211031T020000
TZOFFSETFROM:+0200
TZOFFSETTO:+0100
TZNAME:CET
END:STANDARD
BEGIN:DAYLIGHT
DTSTART:20220327T030000
TZOFFSETFROM:+0100
TZOFFSETTO:+0200
TZNAME:CEST
END:DAYLIGHT
BEGIN:STANDARD
DTSTART:20221030T020000
TZOFFSETFROM:+0200
TZOFFSETTO:+0100
TZNAME:CET
END:STANDARD
BEGIN:DAYLIGHT
DTSTART:20230326T030000
TZOFFSETFROM:+0100
TZOFFSETTO:+0200
TZNAME:CEST
END:DAYLIGHT
BEGIN:STANDARD
DTSTART:20231029T020000
TZOFFSETFROM:+0200
TZOFFSETTO:+0100
TZNAME:CET
END:STANDARD
BEGIN:DAYLIGHT
DTSTART:20240331T030000
TZOFFSETFROM:+0100
TZOFFSETTO:+0200
TZNAME:CEST
END:DAYLIGHT
END:VTIMEZONE
END:VCALENDAR