BEGIN:VCALENDAR
VERSION:2.0
PRODID:-//wp-events-plugin.com//5.973//EN
TZID:Europe/Paris
X-WR-TIMEZONE:Europe/Paris
BEGIN:VEVENT
UID:363@repaircafemarseille.fr
DTSTART;TZID=Europe/Paris:20251108T100000
DTEND;TZID=Europe/Paris:20251108T120000
DTSTAMP:20251109T135319Z
URL:https://repaircafemarseille.fr/ateliers/atelier-petit-electromenager-e
 t-informatique-a-la-colorada-marsella-samedi-8-novembre-10h-12h/
SUMMARY:Atelier PETIT ÉLECTROMÉNAGER et INFORMATIQUE à la Colorada Marse
 lla\, samedi 8 novembre 10h-12h (COMPLET)
DESCRIPTION:Réparons ensemble le PETIT ÉLECTROMÉNAGER et INFORMATIQUE da
 ns le tiers-lieu la Colorada Marsella qui accueille le Repair Café Marse
 ille le samedi 8 novembre 2025 de 10h à 12h !\nSi votre ordinateur vous p
 arle\, si la carte mère réclame son fil(s) ou que les câbles s'emmêlen
 t ou si votre cafetière déraille\, que votre grille pain ne grille plus\
 , que votre aspirateur souffle ou que votre robot ménager a lâché\, ven
 ez les réparer avec notre équipe de choc !\n\nAccès à l'atelier :\n\n 
 	\n\n 	76 rue Consolat\, 13001 Marseille\n 	Transports en commun : métro 
 M1 – Réformé Canebière ou Tram n°2 – National\n\n\n\nIMPORTANT :\n
 \n\n 	inscription en ligne obligatoire (pas d'inscription par email)\n\n 	
 description de votre objet et de la panne obligatoire\, 1 appareil par per
 sonne\n 	4 € de participation MINIMUM obligatoire\n 	Nous ne réparons P
 AS les imprimantes\, les télévisions\, les écrans d'ordinateur\, la té
 léphone mobile et les appareils photos\n 	pensez à amener votre chargeur
  / disque  dur / clé USB\n 	Nous réparons bénévolement le Petit Elect
 roménager : bouilloire\, cafetière\, aspirateur\, fer à repasser\, robo
 t de cuisine\, ventilateur … mais pas les micro-ondes ou le Gros Electro
 ménager (lave-linge\, frigo\, lave-vaisselle…)\n
CATEGORIES:Jeux et jouets,Petit électroménager
LOCATION:La Colorada Marsella\, 76 Rue Consolat\, Marseille\, 13001\, Franc
 e
X-APPLE-STRUCTURED-LOCATION;VALUE=URI;X-ADDRESS=76 Rue Consolat\, Marseille
 \, 13001\, France;X-APPLE-RADIUS=100;X-TITLE=La Colorada Marsella:geo:0,0
END:VEVENT
BEGIN:VTIMEZONE
TZID:Europe/Paris
X-LIC-LOCATION:Europe/Paris
BEGIN:STANDARD
DTSTART:20251026T020000
TZOFFSETFROM:+0200
TZOFFSETTO:+0100
TZNAME:CET
END:STANDARD
END:VTIMEZONE
END:VCALENDAR