BEGIN:VCALENDAR
VERSION:2.0
PRODID:-//wp-events-plugin.com//5.973//EN
TZID:Europe/Paris
X-WR-TIMEZONE:Europe/Paris
BEGIN:VEVENT
UID:59@repaircafemarseille.fr
DTSTART;TZID=Europe/Paris:20160522T100000
DTEND;TZID=Europe/Paris:20160522T170000
DTSTAMP:20160518T094437Z
URL:https://repaircafemarseille.fr/ateliers/reparons-a-miramas-au-domaine-
 de-cabasse-le-22-mai-de-10h-a-17h/
SUMMARY:Réparons à Miramas\, au Domaine de Cabasse\, le 22 mai\, de 10h 
 à 17h !
DESCRIPTION:Le dimanche 22 mai\, de 10h à 17h\, Jonathan\, Laurent et Lion
 el vous accueilleront pour réparer ensemble et effectuer des démonstrati
 ons de réparation au Domaine de Cabasse\, à Miramas\, dans le cadre de l
 'événement annuel "Nature en fête".
ATTACH;FMTTYPE=image/jpeg:https://repaircafemarseille.fr/wp-content/upload
 s/AFF-nature-en-fete-web-01.jpg
CATEGORIES:Imprimantes 2D et 3D,Informatique,Jeux et jouets,Luminaires et
 petit mobilier,Petit électroménager,Vêtements et accessoires
LOCATION:Château de Cabasse\, Château de Cabasse\, Miramas\, 13140\, Fran
 ce
GEO:43.589031;5.026204900000039
X-APPLE-STRUCTURED-LOCATION;VALUE=URI;X-ADDRESS=Château de Cabasse\, Miram
 as\, 13140\, France;X-APPLE-RADIUS=100;X-TITLE=Château de Cabasse:geo:43.
 589031,5.026204900000039
END:VEVENT
BEGIN:VTIMEZONE
TZID:Europe/Paris
X-LIC-LOCATION:Europe/Paris
BEGIN:DAYLIGHT
DTSTART:20160327T030000
TZOFFSETFROM:+0100
TZOFFSETTO:+0200
TZNAME:CEST
END:DAYLIGHT
END:VTIMEZONE
END:VCALENDAR