BEGIN:VCALENDAR
VERSION:2.0
PRODID:-//wp-events-plugin.com//5.973//EN
TZID:Europe/Paris
X-WR-TIMEZONE:Europe/Paris
BEGIN:VEVENT
UID:54@repaircafemarseille.fr
DTSTART;TZID=Europe/Paris:20160430T150000
DTEND;TZID=Europe/Paris:20160430T170000
DTSTAMP:20160420T153034Z
URL:https://repaircafemarseille.fr/ateliers/reparons-le-petit-electromenag
 er-au-cs-du-grand-saint-antoine-le-30-avril-de-15h-a-17h/
SUMMARY:Réparons le petit électroménager au CS du Grand Saint Antoine\, 
 le 30 avril de 15h à 17h
DESCRIPTION:Le 30 avril de 15h à 17h\, Vincent vous accueillera pour répa
 rer ensemble le petit électroménager au Centre social du Grand Saint Ant
 oine\, 12 boulevard du Commandant Robert Thollon (15e) ! Le centre est acc
 essible en bus 96 (arrêt Plan d'Aou) ou B2 (arrêt Saint Antoine Bérange
 r)\, et en train (gare de Saint Antoine).
ATTACH;FMTTYPE=image/jpeg:https://repaircafemarseille.fr/wp-content/upload
 s/logo-festidoni.jpg
CATEGORIES:Petit électroménager
LOCATION:Centre social du Grand Saint Antoine\, 12 boulevard du Commandant 
 Robert Thollon\, Marseille\, 13015\, France
GEO:43.3687541;5.353347299999996
X-APPLE-STRUCTURED-LOCATION;VALUE=URI;X-ADDRESS=12 boulevard du Commandant 
 Robert Thollon\, Marseille\, 13015\, France;X-APPLE-RADIUS=100;X-TITLE=Cen
 tre social du Grand Saint Antoine:geo:43.3687541,5.353347299999996
END:VEVENT
BEGIN:VEVENT
UID:112@repaircafemarseille.fr
DTSTART;TZID=Europe/Paris:20180428T100000
DTEND;TZID=Europe/Paris:20180428T120000
DTSTAMP:20180413T162307Z
URL:https://repaircafemarseille.fr/ateliers/petit-electromenager-au-centre
 -culturel-st-antoine-le-samedi-28-avril-de-10h-a-12h/
SUMMARY:Petit Électroménager au Centre Culturel St Antoine le samedi 28 a
 vril de 10h à 12h
DESCRIPTION:Le Centre Culturel de Saint Antoine ouvre ses portes pour la 1
 ère fois au Repair Café Marseille.\n\nVincent et les collègues bénévo
 les vous accueilleront pour réparer ensemble votre petit électroménager
 .\nSi vous avez l'âme d'un réparateur\, d'un sauveteur de cafetière et 
 autre héros des temps modernes\, venez nous rencontrer!\n\nRAPPEL :\n\n 	
 inscription en ligne obligatoire\n 	description de votre objet et de la pa
 nne obligatoire\n 	2 € de participation MINIMUM obligatoire\n
ATTACH;FMTTYPE=image/jpeg:https://repaircafemarseille.fr/wp-content/upload
 s/RepairCafé-28Avril-001.jpg
CATEGORIES:Petit électroménager
LOCATION:Centre social du Grand Saint Antoine\, 12 boulevard du Commandant 
 Robert Thollon\, Marseille\, 13015\, France
GEO:43.3687541;5.353347299999996
X-APPLE-STRUCTURED-LOCATION;VALUE=URI;X-ADDRESS=12 boulevard du Commandant 
 Robert Thollon\, Marseille\, 13015\, France;X-APPLE-RADIUS=100;X-TITLE=Cen
 tre social du Grand Saint Antoine:geo:43.3687541,5.353347299999996
END:VEVENT
BEGIN:VEVENT
UID:113@repaircafemarseille.fr
DTSTART;TZID=Europe/Paris:20180428T100000
DTEND;TZID=Europe/Paris:20180428T120000
DTSTAMP:20180503T141302Z
URL:https://repaircafemarseille.fr/ateliers/informatique-au-centre-culture
 l-st-antoine-le-samedi-28-avril-de-10h-a-12h/
SUMMARY:Informatique au Centre Culturel St Antoine le samedi 28 avril de 10
 h à 12h
DESCRIPTION:Le Centre Culturel de Saint Antoine ouvre ses portes pour la 1
 ère fois au Repair Café Marseille.\n\nSi votre ordinateur vous parle\, s
 i la carte mère réclame son fil(s) ou que les câbles s'emmêlent\, vene
 z réparer avec nos équipes de choc votre matériel informatique.\n\nSi v
 ous avez l'âme d'un réparateur\, d'un sauveteur de PC et autre héros de
 s temps modernes\, venez nous rencontrer!\n\nRAPPEL :\n\n 	inscription en 
 ligne obligatoire\n 	description de votre objet et de la panne obligatoire
 \n 	2 € de participation MINIMUM obligatoire\n 	pas d'imprimante et de t
 éléphonie mobile\n
ATTACH;FMTTYPE=image/jpeg:https://repaircafemarseille.fr/wp-content/upload
 s/RepairCafé-28Avril-001.jpg
CATEGORIES:Informatique,Logiciels et fichiers
LOCATION:Centre social du Grand Saint Antoine\, 12 boulevard du Commandant 
 Robert Thollon\, Marseille\, 13015\, France
GEO:43.3687541;5.353347299999996
X-APPLE-STRUCTURED-LOCATION;VALUE=URI;X-ADDRESS=12 boulevard du Commandant 
 Robert Thollon\, Marseille\, 13015\, France;X-APPLE-RADIUS=100;X-TITLE=Cen
 tre social du Grand Saint Antoine:geo:43.3687541,5.353347299999996
END:VEVENT
BEGIN:VEVENT
UID:125@repaircafemarseille.fr
DTSTART;TZID=Europe/Paris:20180705T170000
DTEND;TZID=Europe/Paris:20180705T190000
DTSTAMP:20180625T122801Z
URL:https://repaircafemarseille.fr/ateliers/petit-electromenager-au-centre
 -culturel-st-antoine-le-jeudi-5-juillet-de-17h-a-19h/
SUMMARY:Petit Électroménager au Centre Culturel St Antoine le jeudi 5 jui
 llet de 17h à 19h
DESCRIPTION:Le Centre Culturel de Saint Antoine ouvre ses portes pour la 2
 ème fois au Repair Café Marseille.\n\nL'équipe bénévole vous accueill
 era pour réparer ensemble votre petit électroménager.\nSi vous avez l'
 âme d'un réparateur\, d'un sauveteur de cafetière et autre héros des t
 emps modernes\, venez nous rencontrer!\n\nRAPPEL :\n\n 	inscription en lig
 ne obligatoire\n 	description de votre objet et de la panne obligatoire\n 
 	2 € de participation MINIMUM obligatoire\n
ATTACH;FMTTYPE=image/jpeg:https://repaircafemarseille.fr/wp-content/upload
 s/RepairCafé-5JUILLET.jpg
CATEGORIES:Petit électroménager
LOCATION:Centre social du Grand Saint Antoine\, 12 boulevard du Commandant 
 Robert Thollon\, Marseille\, 13015\, France
GEO:43.3687541;5.353347299999996
X-APPLE-STRUCTURED-LOCATION;VALUE=URI;X-ADDRESS=12 boulevard du Commandant 
 Robert Thollon\, Marseille\, 13015\, France;X-APPLE-RADIUS=100;X-TITLE=Cen
 tre social du Grand Saint Antoine:geo:43.3687541,5.353347299999996
END:VEVENT
BEGIN:VEVENT
UID:126@repaircafemarseille.fr
DTSTART;TZID=Europe/Paris:20180705T170000
DTEND;TZID=Europe/Paris:20180705T190000
DTSTAMP:20180625T122806Z
URL:https://repaircafemarseille.fr/ateliers/informatique-au-centre-culture
 l-st-antoine-le-jeudi-5-juillet-de-17h-a-19h/
SUMMARY:Informatique au Centre Culturel St Antoine le jeudi 5 juillet de 17
 h à 19h
DESCRIPTION:Le Centre Culturel de Saint Antoine ouvre ses portes pour la 2
 ème fois au Repair Café Marseille.\n\nSi votre ordinateur vous parle\, s
 i la carte mère réclame son fil(s) ou que les câbles s'emmêlent\, vene
 z réparer avec nos équipes de choc votre matériel informatique.\n\nSi v
 ous avez l'âme d'un réparateur\, d'un sauveteur de PC et autre héros de
 s temps modernes\, venez nous rencontrer!\n\nRAPPEL :\n\n 	inscription en 
 ligne obligatoire\n 	description de votre objet et de la panne obligatoire
 \n 	2 € de participation MINIMUM obligatoire\n 	pas d'imprimante ni de t
 éléphonie mobile\n
ATTACH;FMTTYPE=image/jpeg:https://repaircafemarseille.fr/wp-content/upload
 s/RepairCafé-5JUILLET.jpg
CATEGORIES:Informatique,Logiciels et fichiers
LOCATION:Centre social du Grand Saint Antoine\, 12 boulevard du Commandant 
 Robert Thollon\, Marseille\, 13015\, France
GEO:43.3687541;5.353347299999996
X-APPLE-STRUCTURED-LOCATION;VALUE=URI;X-ADDRESS=12 boulevard du Commandant 
 Robert Thollon\, Marseille\, 13015\, France;X-APPLE-RADIUS=100;X-TITLE=Cen
 tre social du Grand Saint Antoine:geo:43.3687541,5.353347299999996
END:VEVENT
BEGIN:VTIMEZONE
TZID:Europe/Paris
X-LIC-LOCATION:Europe/Paris
BEGIN:DAYLIGHT
DTSTART:20160327T030000
TZOFFSETFROM:+0100
TZOFFSETTO:+0200
TZNAME:CEST
END:DAYLIGHT
BEGIN:STANDARD
DTSTART:20161030T020000
TZOFFSETFROM:+0200
TZOFFSETTO:+0100
TZNAME:CET
END:STANDARD
BEGIN:DAYLIGHT
DTSTART:20170326T030000
TZOFFSETFROM:+0100
TZOFFSETTO:+0200
TZNAME:CEST
END:DAYLIGHT
BEGIN:STANDARD
DTSTART:20171029T020000
TZOFFSETFROM:+0200
TZOFFSETTO:+0100
TZNAME:CET
END:STANDARD
BEGIN:DAYLIGHT
DTSTART:20180325T030000
TZOFFSETFROM:+0100
TZOFFSETTO:+0200
TZNAME:CEST
END:DAYLIGHT
END:VTIMEZONE
END:VCALENDAR